{"text_format":"1","workbook":"xlsx","n_sheets":6,"sheets":["Notes","Codes","Data","Basis","Spreads","Prices"],"not_rendered":{"charts":5,"images":0,"macros":1,"external_links":0,"defined_names":24,"comments":0,"pivot_tables":0},"unopened":[],"bounds":{"document_bytes":16777216,"sheet_cells":100000,"rows_first":2000,"rows_last":500,"rows_between":2000,"halvings":0,"cell_chars":16384,"cell_head_chars":4096},"cells_cut":0,"cells_raw":0,"read":"whole","date_system":"1900"}

{"sheet":"Notes","index":0,"n_rows":0,"n_cols":0,"rows_kept":0,"cut":false,"hidden":false,"merged":[]}

{"sheet":"Codes","index":1,"n_rows":38,"n_cols":2,"rows_kept":38,"cut":false,"hidden":true,"merged":[]}
["Item","Number"]
["Minneapolis Hard Red Spring Wheat Futures",2]
["KCBT  Hard Red Winter Wheat Futures",3]
["CBOT Soft Red Winter Wheat Futures",4]
["CBOT Nearby Corn Futures",5]
["CBOT Nearby Soybean Futures",6]
["HRW Wheat Index",7]
["SRW Wheat Index",8]
["HRS Wheat Index",9]
["National Soybean Index",10]
["National Corn Index",11]
["Durum Wheat Index",12]
["Minneapolis Wheat (HRS, 13%, Rail)",13]
["Minneapolis Wheat (HRS, 13%, Truck)",14]
["Minneapolis Wheat (HRS, 14%, Rail)",15]
["Minneapolis Wheat (HRS, 14%, Truck)",16]
["Minneapolis Wheat (HRS, 15%, Rail)",17]
["Minneapolis Wheat (HRS, 15%, Truck)",18]
["Portland Wheat (HRS, 14%, Del.)",19]
["Montana Wheat (HRS, Billings, 14%)",20]
["Montana Wheat (HRS, Golden Triangle, 14%)",21]
["Montana Wheat (HRS, Great Falls, 14%)",22]
["Montana Wheat (HRS, 14%, North Central)",23]
["Montana Wheat (HRS, 14%, North East)",24]
["S. Dakota Wheat (HRS, 14%, North Central)",25]
["S. Dakota Wheat (HRS, 14% North East)",{"$f":"B25+1","v":26}]
["S. Dakota Wheat (HRS, 14%, East Central)",27]
["St. Louis Wheat (SRW)",28]
["W. Southwest Illinois Wheat (SRW)",29]
["New Orleans Wheat (SRW)",30]
["Toledo Wheat (SRW)",31]
["KC Wheat (HRW, Ords.)",32]
["Western Kansas Wheat (HRW)",33]
["Denver Wheat (HRW)",34]
["Houston Wheat (HRW)",35]
["Central Illinois Corn",36]
["Central Illinois Soybeans",37]
["N.C. Iowa Soybeans",38]

{"sheet":"Data","index":2,"n_rows":154,"n_cols":38,"rows_kept":154,"cut":false,"hidden":true,"merged":[]}
[]
[]
[]
[]
[]
[null,null,null,null,null,null,"$CRWI","$CSWI","$CRSI","$CNSI","$CNCI","$CDWI",null,null,null,null,null,null,null,null,null,null,null,null,"NC","NE","EC",null,null,null,null,null,null,"NC"]
[null,{"$f":"COLUMN()","v":2},{"$f":"COLUMN()","v":3},{"$f":"COLUMN()","v":4},{"$f":"COLUMN()","v":5},{"$f":"COLUMN()","v":6},{"$f":"COLUMN()","v":7},{"$f":"COLUMN()","v":8},{"$f":"COLUMN()","v":9},{"$f":"COLUMN()","v":10},{"$f":"COLUMN()","v":11},{"$f":"COLUMN()","v":12},{"$f":"COLUMN()","v":13},{"$f":"COLUMN()","v":14},{"$f":"COLUMN()","v":15},{"$f":"COLUMN()","v":16},{"$f":"COLUMN()","v":17},{"$f":"COLUMN()","v":18},{"$f":"COLUMN()","v":19},{"$f":"COLUMN()","v":20},{"$f":"COLUMN()","v":21},{"$f":"COLUMN()","v":22},{"$f":"COLUMN()","v":23},{"$f":"COLUMN()","v":24},{"$f":"COLUMN()","v":25},{"$f":"COLUMN()","v":26},{"$f":"COLUMN()","v":27},{"$f":"COLUMN()","v":28},{"$f":"COLUMN()","v":29},{"$f":"COLUMN()","v":30},{"$f":"COLUMN()","v":31},{"$f":"COLUMN()","v":32},{"$f":"COLUMN()","v":33},{"$f":"COLUMN()","v":34},{"$f":"COLUMN()","v":35},{"$f":"COLUMN()","v":36},{"$f":"COLUMN()","v":37},{"$f":"COLUMN()","v":38}]
["Code","MW","KW","W","C","S","HRWI","SRWI","HRSI","NSI","NCI","DWI","Mpls13R","Mpls13T","Mpls14R","Mpls14T","Mpls15R","Mpls15T","Port14","Mont1","Mont2","Mont3","Mont4","Mont5","SD2","SD3","SD4","STL","SWIL","NOLA","TOL","KC","WKS","DEN","HOUS","CILC","CILS","NCIA"]
[null,"Minneapolis","KCBT","CBOT","CBOT","CBOT","HRW","SRW","HRS","Soybean","Corn","Durum","HRS","HRS","HRS","HRS","HRS","HRS","HRS","HRS","HRS","HRS","HRS","HRS","HRS","HRS","HRS","SRW","SRW","SRW","SRW","HRW","HRW","HRW","HRW","Corn","Soybeans","Soybeans"]
["Date","Wheat","Wheat","Wheat","Corn","Soybeans","Index","Index","Index","Index","Index","Index","13% Rail","13% Truck","14% Rail","14% Truck","15% Rail","15% Truck","14% Port.","14% Billings","14% GT","14% GF","14% NC","14% NE","14% Siss.","14% Bristol","14% Aber.","St. Louis","S.W. IL","NOLA","Toledo","KC","W. KS","Denver","Houston","Cent.IL","Cent. IL","N.C. Iowa"]
["2014-01-01",604,615.5,555.75,434,1282.75,598,534.08000000000004,616.51,1247.71,415.46,676.96,873.99999999999989,644,916.5,679,924,694,787,641.5,621,633,635,613.5,624,614,604,580,583.5,653.25,547.25,505,601,616,738,419.5,1278.5,1244]
["2014-02-01",670.75,677,599,463.5,1414.25,655.98,580.29999999999995,665.64,1370.77,435.26,667.5,918.5,701,926.25,736.25,968,751,851.25,678.5,681.5,680.5,691,660.5,686,676,656,625.5,591,711.5,597.75,556.5,661.5,668,808.5,444,1395.5,1367.5]
["2014-03-01",742.75,764,697.25,502,1464,727.6,674.57,708.62,1420.54,468.35,676.04,880.00000000000011,753,903.75,787.75,923,802.99999999999989,906.75,690.5,678.5,699.5,693.5,670.5,710,700,695,721.5,705.5,789.75,690.25,633,746.5,719,894,482.5,1462,1416]
["2014-04-01",757,809.75,713,519,1530.75,771.13,692.13,725.08,1484.44,484.04,670,874,774,878.75,808.75,939,824,905.75,726.5,694.5,739.5,739.5,696.5,749,706,701,732,709.5,784,708.5,708.25,793,777,940,496.5,1521.5,1481]
["2014-05-01",706.5,723,627.25,465.75,1493.25,683.87,600.47,665,1472.06,439.6,690.77,803.99999999999989,712,839,746.5,882,762,837.5,668.5,663.5,683,674,653.5,682,660,647,629.5,619,668.25,618.75,627.5,703.5,705.5,840.5,452,1507.5,1466.5]
["2014-06-01",667.25,710.5,564.75,425.25,1400.5,671.22,548.55999999999995,648.48,1361.96,401.6,852.65,852,687,962,727,1024.5,727,852,649.5,664.5,686,653.5,676,652,642,632,594,530.5,633.75,567.125,590,676.5,690,823,413,1393,1362.5]
["2014-07-01",616,625.75,530.25,367,1224.5,585.34,499.8,594.30999999999995,1205.27,337.13,844.13,771.00000000000011,651,816,676,1026,686,799,579.5,599.5,608.5,571.5,563.5,591,576,556,499.5,457.5,581.75,530.25,515.25,592.5,585,705.5,353.5,1254.5,1202]
["2014-08-01",615,626.25,550.25,364.75,1089.5,587.04,515.17999999999995,595.4,1179.7,339.36,835,765,615,902.25,664.75,1142.5,690,815.75,602.5,625.5,619.5,590.5,583.5,585,570,555,502,463,596.75,558,530.75,595.5,568.5,716.25,362,1237,1236.5]
["2014-09-01",533.5,558,477.75,320.75,913.25,509.85,427.97,525.36,856.56,283.64999999999998,1092.3800000000001,673,463.99999999999994,753.5,563.5,1096,588,808.5,545.5,565.5,590.5,561.5,536.5,489,484,469,326,299,547.25,477.25,432.5,518,503,628.5,282,886,853]
["2014-10-01",574.25,593.75,532.5,376.75,1046.5,551.57000000000005,493.07,580.94000000000005,985.73,335.63,1156.67,751.5,504,821.75,604.25,1099,629,919.25,652,652.5,651.5,685,615.5,539,524,519,449.5,447,633,537,458.25,554,551.5,703.75,339.5,1022,991.5]
["2014-11-01",598.5,621,562,388.75,1047,582.22,528.77,620.45000000000005,997.98,350.19,1127.25,763.00000000000011,573,835.25,622.75,1002.9999999999999,648,963.75,700,692.5,687,693,658.5,583,583,583,552,515.5,667.5,567.5,507.5,580.75,586.5,727.25,355.5,1039,995.5]
["2014-12-01",622,626.5,589.75,397,1019.25,582.51,557.4,608.41,968.03,363.52,1036.1099999999999,699.49999999999989,592,752,642,984.50000000000011,667,855,687,671,648,688.5,626.5,592,597,597,594,547.5,680,595.75,513,586.25,594.5,720.5,372,1010,970.5]
["2015-01-01",556.75,540.25,502.75,370,961,499.45,473.24,553.79,912.84,343.8,897.37,664.5,522,706.75,571.75,869.5,597,821.75,621,614.5,609,587,598.5,527,520,520,507,467,583.25,512.25,455,505,510,637.75,350.5,948.5,911]
["2015-02-01",556,534.5,517.5,393.25,1030.75,499.1,487.91,569.04,984.41,365.26,854.2,671,532,746.5,581.5,974,606,846,661,632,638.5,627,626.5,542,534,534,517.5,484.5,607.5,527,479.5,504.5,512.5,632,367.5,1021,983]
["2015-03-01",576,559.25,511.75,376.25,973.25,523.54,484.95,593.99,928.97,354.86,823,661,551,771,601,1001,626,886,678.5,650,657,647.5,628.5,556,566,566,511,474,596.75,517.75,524,524,541.5,639.25,357.5,962,928]
["2015-04-01",523.25,490.25,467,366.25,978.5,448.86,441.86,503,936.33,344.64,785.69,638,513,738.25,563,888.00000000000011,588,738.25,585.5,567,570,562,554.5,508,508,508,468,425.5,511.5,470.5,484.5,459.5,471.5,567.75,350,970.5,952]
["2015-05-01",530.75,498.75,477,351.5,934,461.44,452.49,519.21,900.89,333.07,788,626,505.99999999999994,710.75,555.75,931,581,728.25,565.5,539,545.5,546,531.5,501,511,511,478.5,444,544.5,478,508.75,472.5,466.5,553.75,339.5,930.5,899.5]
["2015-06-01",622.25,593.25,614.75,431.5,1056.25,563.4,579.78,604.53,1012.01,389.29,746.95,724.5,602,794.75,652.25,961.99999999999989,677,772.25,629,629,637.5,633.5,603,607,602,602,587.5,547.5,655.25,615.75,612.25,562.5,560.5,606.75,397.5,1046.5,1011.5]
["2015-07-01",523.5,492.25,499.25,381.25,980.75,446.78,443.41,471.97,938.06,342.78,785.11,574,488,633.5,538.5,824,564,613.5,478.5,482,492.5,485,450.5,484,474,474,459,413,532.5,517.75,489.75,448,447,485.5,352,988.5,946.5]
["2015-08-01",496.75,463.75,482.5,375.25,897.5,423.97,425.64,457.4,872.28,340.32,614.19000000000005,589,474,609.5,524.5,747,550,622.5,471.5,484,494.5,486.5,460.5,470,450,450,423.5,367.5,507,503.75,447.75,423.5,429,483.75,347,887.5,900]
["2015-09-03",527,501.75,512.75,387.75,892,445.1,453.26,481.85,837.57,353.26,619,611.99999999999989,487,642,537,695.5,562,655,505.5,513.5,515,508,482.5,482,477,467,449.5,416,558.25,528.75,466.75,441,448.5,521.75,368,867.5,829.5]
["2015-10-01",525.5,493.75,522,382.25,883.75,439.23,471.69,496.6,830.99,354.64,633.19000000000005,633,486.00000000000006,645.5,535.5,713,560,658,519.5,531.5,537,529.5,502,506,486,481,464.5,440,580,538,448.75,434.5,440.5,513.75,369.5,870,821]
["2015-11-01",523.25,460,457,372.25,881,408.1,422.53,497.49,836.37,346.05,647,635.5,478,652.75,527.75,713,553,649,506,510,517.5,511,481.5,508,488,483,413.5,390.5,513.5,492.5,427,397.5,408.5,480.5,361.5,878.5,827.5]
["2015-12-01",493.25,468.5,470,358.75,871.25,408.12,425.38,467.09,818.77,333.64,624.38,577.99999999999989,463,605.75,513.25,663,538,622,477.5,479,488.5,481,442,483,460,455,420,387,510.5,485,443.5,403.5,414,522,350,863,808.5]
["2016-01-01",500,472,479.25,372,882.25,414.16,437.3,477.26,835.42,348.49,591.66999999999996,570,470,595,520,632.49999999999989,545,615,483,498.5,498.5,493,458.5,480,460,455,449.5,400.5,531.75,495.75,452,408,422,529.5,367,876.5,825.5]
["2016-02-01",492,445,445,357,853,390.41,406.72,454.33,806.2,329.3,552.86,566.5,474,577,502,616,509,604.5,457,476.5,479.5,470,436.5,461,432,427,459,394.5,496.5,445.625,430,384,399,502.5,346.5,844.5,798]
["2016-03-01",529.5,476.25,473.5,351.5,910.75,410.96,432.66,478.93,852.83,323.95999999999998,552.5,592,520,599.5,544.5,680,554,624.5,481,504.5,508,494.5,468.5,490,457,452,481.5,424.5,525.5,465.5,448.75,405.5,416,521.25,341.5,891.5,847.5]
["2016-04-01",540,465.25,478,391.75,1021,403.08,439.27,492.09,956.87,356.72,563.57000000000005,619.5,529,627,554,689.5,564,636.5,496.5,514,519,506.5,474.5,512,466,482,489,433.5,529.5,477,448.25,395.5,405,486,375,997,947]
["2016-05-01",520.25,447.25,464.5,404.75,1078.5,378.91,424.77,465.87,1010.75,369.36,563.57000000000005,595,505,590.25,530.25,637.5,540,625.25,479.5,495.5,495.5,498,457,465,440,435,461,428,504.5,453.5,427.25,369.5,376,477.25,387,1044.5,998.5]
["2016-06-01",495.25,404.25,431.25,371.25,1175,331.93,411.52,446.77,1112.0999999999999,326.31,587.14,552,478,598.25,503.25,627,513,601.75,464.5,465,475.5,469.5,424.5,448,423,423,442.5,421,471.25,432.375,379.25,308.5,324,420,344.5,1157.5,1089.5]
["2016-07-01",489,409.75,407.75,342.75,1032.5,319.01,372.59,436.55,971.35,305.60000000000002,516.66999999999996,548,463,560.75,488.25,627.99999999999989,498.00000000000006,573.25,448.5,447,452.5,445.5,409,438,428,418,393,382,418.75,404.25,352.25,292.5,302.5,407.25,322,1016.5,954]
["2016-08-01",485.75,371.25,361,315.5,960,283.43,331.65,430.01,909.11,273.02,500,521,462,554,486.5,609,496,586.5,446.5,440,443.5,443,396.5,432,417,417,348,344.5,396,358.625,313.25,258,263.5,373.75,288,959,903]
["2016-09-01",514.5,415.5,402,336.75,954,305.24,351.9,459.19,890.92,295.27,520.83000000000004,570,494.00000000000006,619.5,519.5,647,530,624.5,474.5,475.5,476,475.5,440.5,450,450,450,387.5,346.5,432,381.5,335.5,281,288.5,415.5,309,923.5,880]
["2016-10-01",526.75,414.75,416.25,354.75,1002.25,309.79000000000002,370.27,477.81,927.72,311.25,618.33000000000004,637,507,631.75,531.75,659.5,542,629.25,497.5,496,494.5,499.5,461.5,462,462,462,396,383,468.75,403.75,334.75,282.5,295,414.75,335.5,971,925]
["2016-11-01",539.5,391.25,380.5,348.5,1032.25,297.33999999999997,346,494.34,960,301.51,621.53,647.00000000000011,514,662,539.5,705,550,644.5,505,512,518.5,510.5,474.5,495,480,480,381,356.5,441.25,368,326.25,270.5,286,390.25,322,1003.5,953.5]
["2016-12-01",538,418.5,408,352,996.5,319.48,364.92,502.83,931.37,315.35000000000002,606.86,638.00000000000011,518,670.5,543,703,553,653,528.5,535.5,526.5,526,499,513,488,488,398,378,450,392,351.5,295.5,311.5,398.5,337,977,924]
["2017-01-01",548.5,429.5,420.75,359.75,1024.5,339.04,384.08,509.07,948.8,324.27,582.12,618,532,645,557.5,700,568,673,513,539,545.5,509,495,508,488,483,416,397,477.25,407.25,368.5,317.5,325,399.5,343,995,937]
["2017-02-01",539.75,451.25,424.75,373.75,1025,362.21,396.02,509.13,952.89,330.74,573.9,580,535,645.25,560.25,685,570,670.25,511,531.5,528.5,512,497,500,490,485,426.5,404,481.25,418.75,407.25,346,348.5,426.25,350,995,942.5]
["2017-03-01",534.25,420.5,426.5,364.25,946,330.55,385.09,493.83,870.58,326.52999999999997,530.69000000000005,614,529,611.75,544.25,659,554,651.75,506.5,532,535,513.5,482.5,484,479,474,418,401,475.5,410,375.5,311,316,450.5,339,910.5,862]
["2017-04-01",540.75,424.75,418.5,366.5,945.25,341.7,384,509.51,878.47,325,546.74,660,545,649.75,559.75,700,570,655.75,520.5,551,549.5,534.5,497.5,510,500,495,427,397,468,412.875,391.75,326,335,459.75,338,915,873]
["2017-05-01",572,431.75,429.25,372,916,354.8,396.7,532.78,850.16,335.34,545.63,649.49999999999989,567,662,582,727,592,684.5,544.5,571.5,572,554,533.5,522,522,522,417.5,413.5,475.75,417.75,396.75,336.5,334.5,479.25,349,888,844]
["2017-06-01",767.75,511.25,511,381,942.25,455.01,495.05,730.17,880.67,334.76,678.04,844.5,762,881.75,786.75,954.5,797,880.25,749.5,768.5,770,756,730,727,727,727,530.5,510,563.5,503.5,491.25,448.5,416,568.75,351.5,918.5,875.5]
["2017-07-01",731.25,474.75,474.5,384.75,994.5,409.97,445.12,691.3,934.81,327.91,817.92,786,711,808.75,736.25,871.00000000000011,746,828.75,707,730,729.5,715.5,693.5,686,691,696,477,454,511,463.5,424.75,395,370,512.25,340.5,970,928]
["2017-08-01",618.5,408.75,410.25,357.75,936.25,346.45,386.46,586.4,882.7,307.86,652.14,701,616,725.5,640.5,755.00000000000011,650,724.5,598.5,624.5,629,606.5,589,586,591,596,414,399.5,462.5,410.25,356.25,335,319,446.25,320,914,881]
["2017-09-01",623.75,442.75,448.25,355.25,968.25,366.13,403.07,577.24,890.41,309.89,650,689,604,713.75,628.75,761.5,639,743.75,613.5,614.5,622,619.5,589.5,564,559,559,418,410,493.25,435.75,374.75,350.5,338,490.25,319,926.5,884.5]
["2017-10-01",612.75,416.5,418.5,345.75,973.75,348.89,383.55,578.07000000000005,895.49,303.35000000000002,641.09,685.5,598,742.75,622.75,800.50000000000011,633,740.25,600.5,621,625.5,609.5,578,563,573,573,413,390,466,410.5,348.5,332,317.5,464,313,931.5,893]
["2017-11-01",601.25,414.5,409.25,355.75,985.75,364.03,389.33,588.76,912.67,309.83,629.72,677.5,602,751.75,626.75,807,637,731.75,612,625,628.5,620.5,588,587,566,566,430,395,468.75,406.75,382,348.5,350,482,314,947,905.5]
["2017-12-01",614.75,427.25,427,350.75,951.75,376.48,394.52,591.30999999999995,885.77,315.41000000000003,626.39,676,600,739.75,624.75,802.5,635,734.75,609,621.5,631.5,617,591.5,595,580,580,432,412,475.5,415.5,410.25,359.5,363,512.25,323,919,878.5]
["2018-01-01",607.25,467.25,451.75,361.5,995.75,426.13,422.7,590.13,927.37,330.26,608.95000000000005,689.5,597,719.75,622.25,774.5,632,727.25,603.5,619.5,623.5,610.5,589.5,592,577,577,458.5,456.5,504.75,446.75,457.25,414.5,404.5,550.75,342,961,920]
["2018-02-01",606,508.25,484.5,382,1045,469.45,458.46,598.82000000000005,976.22,345.38,596.5,722,612,756.75,636.75,789.5,647,736,613,618.5,626,611.5,592,602,587,587,496.5,480,554.5,484.5,508.25,461.5,445.5,596.5,355.5,1010.5,966]
["2018-03-01",578.5,467.25,451,387.75,1044.75,425.78,420.91,562.36,967.16,350.75,597.25,681,584,728.5,608.5,763,618,703.5,580.5,580.5,593,576.5,558,579,554,554,452,453.5,518.5,453.5,457.25,414.5,394.5,558.75,352.5,991.5,959]
["2018-04-01",617.75,518.5,512.5,400.75,1037.75,484.26,479.28,606.62,971.65,363.15,573.89,743,616,763,640.5,816,650,769.75,613,636,642,622,600.5,618,593,593,454,488,580,513,518.5,478.5,446.5,625,365.5,1001,963]
["2018-05-01",612,542.5,526.25,394,1018.5,509.42,498.8,600.32000000000005,953.96,361.53,576.54,729.5,622,739.5,647,772.00000000000011,657,764.5,616.5,625,637.5,621.5,597,612,587,587,539.5,514,580.75,532.75,536,503,470.5,637.5,366.5,982,943.5]
["2018-06-01",521.5,470.75,497.5,371.25,858.5,471.52,476.84,513.39,799.74,324.29000000000002,547.14,647,552,676.5,576.75,704.5,587,661.5,539,526,534.5,531.5,502,522,497,497,517,497.5,558,501.25,515.75,453.5,426,575.75,326,828,793.5]
["2018-07-01",606.25,556.5,553.75,386.5,903.75,538.86,526.07000000000005,565.49,840.69,341.81,494.46,647,566,708.75,616.25,746,641,703.75,575,573,582,583.5,546.5,571,561,561,557.5,543.5,608.75,560.75,586.5,529.5,517,631.5,339.5,872,836.5]
["2018-08-01",583.75,523,518.5,365,833,507.98,492.97,535.52,748.12,319.39,491.43,671.5,559,678.75,573.75,694,589,676.25,544.5,552.5,553,550,513,539,524,524,505.5,499,576,530.5,553,498,490.5,608.125,312.5,781.5,741.5]
["2018-09-01",572.5,511.25,509,356.25,845.5,471.94,465.98,511.51,743.59,312.67,464.66,653,542,660,557.5,663,572,657.5,529.5,527,536,527.5,497,513,498,498,474,526,549,499,511.25,458.5,456,571.25,307.5,774,739]
["2018-10-01",569.25,493.25,500.5,363.25,839,460.57,468.85,519.41,744.47,324.98,458.33,681.5,564,694.25,574.25,699,579,661.75,531.5,545,547.5,532.5,504,524,504,499,493,513,566,492.5,503.25,443,463,563.25,329,775.5,739.5]
["2018-11-01",583.25,486.5,515.75,377.75,894.75,462.34,486.02,543.24,807.42,338.47,457.59,676,586,715.75,595.75,718.5,601,693.75,541,563.5,570,551,528,541,531,531,534,503.5,592.25,515.75,501.5,445,476,556.5,342,849,795]
["2018-12-01",549,488.75,503.25,375,882.5,457.59,477.57,505.77,800.99,341.83,456.36,649,559,641.5,569,701.5,574,649,506.5,526.5,527.5,525,494,509,494,494,536,503.5,580.75,498.25,503.75,445,476.5,556.25,346,834.5,794]
["2019-01-01",570,499,516.5,376.5,915.25,476.03,494.16,531.82000000000005,825.38,346.92,458.67,697.5,575,700,585,690,590,665,536,544,551.5,540,507,535,515,515,546.5,515,600,511.5,506.5,457.5,495,566.5,350.5,858,820.5]
["2019-02-01",567,441,452.5,362,897.5,423.56,434.76,525.84,816.39,337.53,472.59,716.25,579.25,719.25,579.25,729.25,579.25,669.25,534.5,536,536.5,533,499,534,509,504,483,456,552.5,447.5,448.5,402.5,438.5,566,336,852,806.5]
["2019-03-01",554.75,430,457.75,356.5,884.25,416.01,435.34,521.14,797.51,330.25,466.3,676.75,579.75,679.75,579.75,709.75,579.75,677.25,529.5,532.5,536.5,533,500,530,505,500,487.5,458,549.75,450.25,440,388.5,432,551,331,826.5,784.5]
["2019-04-01",490.25,386.25,418.5,353.25,841.25,376.89,402.21,464.8,764.94,335.35,458.64,596.5,527,596.5,527,639.5,527,600.25,478.5,480.5,484,479.5,434,472,457,452,457,424,509.5,411,398.75,351.5,377.5,484,334.5,796,757.5]
["2019-05-01",552,473,503,427,877.75,454.81,482.63,506.67,796.04,400.33,464.17,632,577,642,577,652,577,644.5,514.5,513,520.5,516.5,477,517,502,497,538.5,513,595.5,496.5,481.5,430.5,440.5,570.5,404.5,829.5,805]
["2019-06-01",554.25,451.5,528,420.25,899.75,433.33,515.16999999999996,504.58,826,405.79,473.26,654.25,574.25,664.25,574.25,697.75,574.25,634.25,490,505,510.5,506.5,470.5,519,494,489,553,528,597.75,550.75,465,419.5,417,549,416,866.5,818]
["2019-07-01",519.5,422.75,487.25,400.25,864,400.55,470.48,472.95,796.52,391.79,469.17,604.5,524.5,612,524.5,622,524.5,594.5,455,471.5,475,465.5,424,485,475,470,472,462,534.75,509.75,430.25,376.5,395.5,516.75,398.5,842,787.5]
["2019-08-01",476.5,378.25,451.25,358,857,362.34,440.26,433.38,786.33,352.61,466.59,566.25,476.75,574.25,476.75,601.75,476.75,551.5,422,432,446.5,431,391,442,422,417,453,448,513.75,478.375,385.75,342.5,361,472.25,354.5,828,786]
["2019-09-01",544.5,415,495.75,388,906,388.66,480.18,501.81,824.86,371.55,529.46,545,554.5,657,554.5,692,554.5,649.5,497.5,504,509,485.5,470.5,510,485,480,480,484,563.25,512.75,414,362.5,395,532.5,376.5,865,822.5]
["2019-10-01",524,419.75,508.75,390,916.75,395.81,495.88,503.78,852.13,373.67,619.48,684,539,696.5,539,724,539,654,510.5,523.5,539,531,477.5,479,479,474,503,519.5,579.75,524.25,419.75,367.5,407.5,547.25,381,897.5,843.5]
["2019-11-01",494.5,438.75,547.5,371.25,876.75,414.47,538.66999999999996,493.59,815.28,358.77,611.74,567.5,519.5,680,519.5,697,519.5,654.5,516,521,532,520,488,470,465,460,587,548.5,645,560.625,441.25,387.5,426.5,566.25,366.5,858.25,802.25]
["2019-12-01",561,486,558.75,387.75,955.5,455.23,551.41999999999996,540.34,893.06,371.12,604.47,666,606,706,606,726,606,713.5,567.5,561,573.5,566.5,531,556,526,521,623,570.5,663.75,571.25,483.5,432.5,466,613.5,380,937,886.5]
["2020-01-01",533.75,465.5,553.75,381.25,872.5,439.15,550.45000000000005,512.55999999999995,818.73,367.91,612.26,643.75,568.75,683.75,568.75,676.25,568.75,686.25,537.5,524,543.5,538,496.5,519,499,494,618,567.5,663.75,566.25,465.5,415,447,585.5,376,854.5,810.5]
["2020-02-01",511.25,445.5,529,366.5,883.5,422.69,519.67999999999995,502.23,838.31,355.02,623.75,622.5,552.5,662.5,552.5,670,552.5,668.75,515,509.5,539,524,490,513,488,483,564,540,629,539.5,450.5,402,431,565.5,365,875,831]
["2020-03-01",539.25,493,568.75,340.75,886,468.8,549.63,522.82000000000005,840.4,314.76,589.5,661.75,564.25,664.25,564.25,698.25,564.25,694.25,535.5,542,567,551,509,529,504,499,588,569.5,656.25,558.75,498,446.5,478,604.5,324.5,874,834.5]
["2020-04-01",500.5,482.25,529.75,311.5,850.25,458.68,504.66,488.51,807.63,286.87,587,610.5,530.5,615.5,530.5,655.5,530.5,645.5,489,515.5,521.5,502.5,465,486,466,461,549,524,592.25,522.25,494.75,441.5,465,583,295,841.5,803.5]
["2020-05-01",525,470.5,520.75,325.75,840.75,443.86,500.07,494.25,795.1,301.08,598.57000000000005,660,545,665,545,685,545,657.5,507.5,524.5,531.5,514.5,487.5,495,483,478,534,524,583.25,515.75,483,424.5,448.5,575.5,309,827,792]
["2020-06-01",509.25,435.5,490,338.5,884.25,417.36,473.17,491.68,835.74,319.18,605.55999999999995,625,535.25,630.25,535.25,677.75,535.25,634.25,501,507.5,510.5,502,467,495,467,462,500,495,536,495.75,448,406.5,423,528,328.5,866.5,830.5]
["2020-07-01",514,442.5,531.25,316,897.5,422.98,509.99,476.06,845.29,294.52,591.21,594,519,604,519,649,519,614,485.5,487,489,492.5,446.5,479,464,459,548.5,535.875,592.25,542,462.5,411,438,535,303.5,876,839]
["2020-08-01",518.5,470.5,544.25,348.5,951.25,447.86,522.5,494.25,900.59,326.44,545.54,659.5,528.5,679.5,528.5,689.5,528.5,618.5,491,486.25,491,500,459.9,450.25,450.25,447.75,558.91999999999996,548.91999999999996,596.25,546.25,487.88,433.25,456.85,563,338.75,938,896.4]
["2020-09-01",540.25,509.75,578,379,1023.5,483.5,552.71,507.81,968.49,352.38,534.11,652,550.25,672.75,550.25,735.25,550.25,662.75,484,475.33,470.75,486,451.1,479.85,491,482.75,586,587,625.5,568,519.75,467.75,495.08,602.25,360,992.5,948.2]
["2020-10-01",552.25,541.25,598.5,398.5,1056.5,515.22,568.78,523.22,1005.99,378.43,561.25,662.25,562.25,669.75,562.25,712.25,562.25,687.25,510.67,507.75,523,518,487.6,495.85,506.38,524.75,608.5,581.1,663.5,576,551.25,499.25,522.91999999999996,633.75,385,1044.5,997.43]
["2020-11-01",534.5,545.75,580.25,419.75,1141.5,519.88,559.73,523.89,1120.32,406.18,575.36,685,549.5,693,549.5,713,549.5,668,515.66999999999996,504.5,520.75,517.33000000000004,487.6,488,504.5,512,607.75,578.29999999999995,660.25,560.13,570.75,507,525.41999999999996,638.25,408.25,1158,1135.25]
["2020-12-01",599.25,603.5,640.5,484,1315.25,577.52,625.01,577.22,1269.8800000000001,470.32,617.38,724.25,609.25,729.25,609.25,744.25,609.25,714.25,557,581,576.75,563.5,542.78,539.25,553.25,564.25,673,618.04999999999995,728,629,628.5,565.5,594.33000000000004,696,479,1305.5,1261.3800000000001]
["2021-01-01",633.5,638,663,547,1370,612.5,643.67999999999995,605.12,1326.01,529.15,631.61,743.5,643.5,743.5,643.5,778.5,643.5,736,599,600,611.5,601.66999999999996,565.9,573.5,586.88,598.5,700.5,632.33000000000004,760.5,653,663,602.5,629.66999999999996,731,535,1358.5,1317.8]
["2021-02-01",631,624.75,655,555.5,1404.25,601.66,639.54999999999995,606.24,1365.41,535.29,654.14,753.75,641,758.75,641,783.75,641,743.5,596.5,609,609.25,606.33000000000004,588.29999999999995,578.75,598.75,607.75,692.75,638.16999999999996,760,650.25,653.75,598,622.25,725,544,1394.5,1358.35]
["2021-03-01",610.75,575.75,618,564.25,1436.75,550.86,599.07000000000005,580.41,1404.96,553.96,664.66,710.75,620.75,730.75,620.75,738.25,620.75,720.75,576.66999999999996,590,592,589,569.29999999999995,550.75,564.75,575.75,645.5,611.08000000000004,718,608,605.75,543.25,568.91999999999996,676,558.75,1428.25,1403.55]
["2021-04-01",763.25,698.25,742.5,740,1571,681.43,722.05,735.29,1541.21,691.08,696.72,812.5,778.75,832.5,778.75,901.25,778.75,883.25,731.33,740.33,740.33,742,710.2,713.25,723.13,728.25,762.25,730.08,836.13,737.25,728.25,673.5,692.25,799.25,684.5,1551.5,1550.83]
["2021-05-01",727.5,613.25,663.5,656.75,1530.5,595.52,648.51,696.09,1511.49,671.72,740,832.5,752.5,852.5,752.5,860,752.5,835,691.5,697.5,699.5,706.5,659.25,677.5,687.13,697.5,677,660.83,731,666,640.75,594.5,607.41999999999996,715,666.5,1544,1514.9]
["2021-06-01",868.75,650.25,671.5,720,1450,637.70000000000005,646.09,822.67,1425.35,687.61,787.67,959,874.75,979.75,874.75,1007.25,874.75,972.08,819.67,815.33,825.25,822.83,786.83,828.75,822.13,829.75,678,657.33,702.5,689.5,673.75,633,655.25,752,696.5,1445.5,1435.3]
["2021-07-01",904.75,673.25,703.75,547,1414.75,657.34,660.89,889.99,1379.21,620.74,1178.06,1044.75,929.75,1054.75,929.75,1057.25,929.75,1023.08,872.08,885.42,898.5,880.75,863.64,869.75,880.13,904.75,685.25,679.42,728.25,704.25,701.75,641.25,668.25,{"$f":"AH101+1","v":669.25},625,1400.25,1384.25]
["2021-08-01",903.75,705.25,706.75,534,1424.25,692.74,662.99,894.17,1267.7,569.27,1532.07,1028.5,918.5,1023.5,918.5,1036,918.5,1036.8800000000001,872.92,892.92,907.83,885.92,867.39,858.75,875,903.75,668.75,668.25,636.5,699.25,731.25,671,703.38,{"$f":"AH102+1","v":704.38},561.25,1293.5,1255.0999999999999]
["2021-09-01",912.5,731.75,725.5,536.75,1256,714.03,667.94,901.29,1206.8900000000001,518.80999999999995,1352.94,1050,927.5,1050,927.5,1070,927.5,1048.21,903.93,896.17,899.38,907.1,863.5,867.5,882.13,912.5,631.5,692.3,801.5,703,757.75,693.5,723.42,724.42,507,1216,1200.9000000000001]
["2021-10-01",1052.25,785.75,772.75,568.25,1235.75,766.99,726.85,1016.49,1196.1099999999999,551.46,1528.24,1192.25,1048,1192.25,1048,1197.25,1048,1169.1300000000001,1027.08,1016.58,1020.13,1023.83,971.53,987.25,1006.13,1052.25,718.75,747.55,852.75,752.75,811.75,747.5,780.75,781.75,538,1201,1188.83]
["2021-11-01",1020,819,773.75,567,1217.25,804.83,742.39,981.53,1181.21,555.95000000000005,1549.35,1182.5,1025,1182.5,1025,1180,1025,1121.43,981.33,972.67,976.25,977.33,937.56,955,965.75,980,719,772,878.75,753.75,850,785.44,813.54,814.54,555,1198,1168.95]
["2021-12-01",982,801.5,770.75,593.25,1328.75,785.62,732.33,952.11,1294.4100000000001,583.73,1533.83,1139.5,1012,1139.5,1012,1182,1012,1092,951.33,942.33,954.5,949.33,926.22,932,939.63,952,715,750.25,873.25,753.25,818.75,763.25,800.17,801.17,577.25,1307.25,1279.93]
["2022-01-01",906.5,781.25,761.25,626,1490.5,774.06,726.85,888.35,1143.53,615.74,1489.4,1081.5,941.5,1081.5,941.5,1081.5,941.5,1016.5,870.5,887.5,892.75,887.5,870.72,856.5,870.38,876.5,778.75,750.5,881.25,768.75,802.75,751,775.92,776.92,610,1467,1423.5]
["2022-02-01",989,954.25,928,697.5,1644.25,936.05,892.79,969.02,1586.99,676.85,1250.6300000000001,1104,1034,1141.5,1034,1157,1034,1105.43,972.33,966.67,985.75,979,943.11,944,954.13,964,931.5,892,1045.5,916,972.63,917,931.85,932.85,687,1630.75,1562.3]
["2022-03-01",1079.5,1130.5,1006,748.75,1618.25,970.52,935.97,1038.29,1555.11,719.98,1272.8800000000001,1186.75,1106.75,1226.75,1106.75,1206.75,1106.75,1163.8800000000001,1051.17,1040.58,1032.44,1048,995.86,991.5,1011.04,1046.75,989,942,1108.5,963.5,1024.75,952.25,973.08,974.08,727.25,1594.25,1521.43]
["2022-04-01",1161.25,1094.25,1043.75,818.25,1708.25,1049.26,998.04,1124.6400000000001,1645.18,800.16,1279.4100000000001,1346,1196,1356,1196,1371,1196,1255.29,1125.08,1127.08,1109.81,1128.42,1075.1099999999999,1123,1116.1300000000001,1136,1084.75,1000.75,1138.75,1008.75,1110.75,1035.7539999999999,1067.17,1068.17,795.25,1690.25,1620.75]
["2022-05-01",1247.5,1165.5,1087.5,753.5,1683.25,1116.32,1008.32,1202.28,1651.09,751.09,1303.0899999999999,1387.5,1272.5,1397.5,1272.5,1383.5,1272.5,1324.64,1191.83,1203.83,1188.75,1189.5,1143.83,1199.5,1192.6300000000001,1217.5,1080,1016,1137.5,1060,1170.5,1099.25,1121.5,1122.5,759,1709.25,1627.15]
["2022-06-01",987.75,948.75,868.75,743.75,1675,902.71,808.91,946.05,1586.37,717.34,1133.06,1130,1022.75,1170,1022.75,1155,1022.75,1067.75,941.58,938.92,939.75,933.92,890.33,936.55,932.63,957.75,854.88,808.25,886.75,843.75,1008.75,896.75,920.92,921.92,790,1714,1568.65]
["2022-07-01",906,874.5,807.75,616.25,1637,824.8,749.18,855.13,1538.44,699.57,983.59,1036,926,1061,926,1063.5,926,988.5,878,875,876,870,816,848,846.13,866,829.25,747.75,862.75,782.75,939.5,819.5,862,863,669,1564,1498.25]
["2022-08-01",915.5,924.25,809,673.75,1507.5,871.34,761.05,874.43,1456.76,710.54,865.63,1054.5,944.5,1074.5,944.5,1094.5,944.5,1004.1,867.83,875.5,885.75,881.17,826.72,847.5,852.75,869.5,814.5,774,897.5,897.5,992.5,860,907.79,908.79,689,1514,1442.2]
["2022-09-01",982,991.5,921.5,677.5,1364.75,949.68,860.83,929.76,1318.21,678.55,830.43,1072,1007,1122,1007,1149.5,1007,1067,927.67,936,944.5,940.67,892,904,912.75,922,839,858,1001.5,885,1067.5,944,984.83,985.83,654,1325,1315.04]
["2022-10-01",981.25,924,882.25,691.5,1407,939.04,824,930.2,1372.59,696.75,915.94,1121.25,1006.25,1181.25,1006.25,1183.75,1006.25,1066.25,919.92,941.92,946.25,943.25,901.25,903.25,913.88,921.25,797.25,832.75,971.25,849.75,1043.75,935,970.75,971.75,670,1366,1359.05]
["2022-11-01",956.75,913.25,771.5,662,1469.5,867.76,736.13,905.23,1448.66,678.48,968.91,1153,958,1188,973,1190,983,1038.21,915,905.33,909.25,908.67,871.72,881,891.25,908,751.5,722,874,734,954.75,864.75,904.45,905.45,649,1454,1442]
["2022-12-01",938.75,888,792,678.5,1519.25,857.37,747.52,913.93,1495.65,690.42,932.2,1073.75,958.75,1113.75,968.75,1218.75,968.75,1011.92,914.08,927.75,908.75,924.75,884.08,886.75,892.75,903.75,777,767,894.5,749.5,943,843,891,892,661,1501.75,1477.98]
["2023-01-01",922.25,878.75,761.25,679.75,1538,848.53,720.41,902.73,1506.25,687.96,903.97,1022.25,937.25,1089.75,947.25,1132.25,947.25,1002.25,880,911.25,914.5,908.25,872.25,856.25,857.05,853.25,771.25,750,871.25,731.25,938.75,822.5,881.75,882.75,669,1519,1482.1]
["2023-02-01",870.75,815.75,691.5,629.5,1490.5,782.76,658.18,836.07,1446.3,636.34,864.44,897.75,884.75,947.75,894.75,990.25,997.75,957.4,829.75,836.08,853.25,849.42,807.31,809.75,814.92,831.75,693.5,670.75,788.5,656.5,866.75,770.25,803.6,804.6,615,1474,1416.5]
["2023-03-01",895.75,877.75,692.25,660.5,1505.5,847,646.04,867.36,1464.18,670.43,847.57,1000.75,910.75,1085.75,920.75,1150.75,920.75,980.75,864.08,871.08,877,876.75,838.53,850.25,843.95,846,689.75,663,772.25,661,927.75,835.25,854.4,855.4,657,1502,1448.6]
["2023-04-01",788,807.25,619.75,636,1444.25,754.69,585.66999999999996,771.71,1402.21,620.99,812.57,926.25,803,983.75,813,933.75,813,885.29,754.75,774.75,777.5,780.08,734.31,746.75,757,783.75,618.25,596.08000000000004,709.75,596.75,841.25,741.5,752.45,753.45,606,1424.75,1400.95]
["2023-05-01",780,649.5,594.25,594,1299.75,756.9,551.98,747.97,1273.9100000000001,628.08000000000004,789.12,900,790,957.5,800,1020,800,860.83,730,751.67,748.75,749.67,711.67,718,727,760,592.75,556.58000000000004,634.25,564.25,855.5,758,760.38,761.38,612,1307,1248.6500000000001]
["2023-06-01",802,801.25,636.25,554.5,1557.25,753.32,597.48,775.02,1444.22,531.25,782.65,972,827,1004.5,837,1027,837,883,755,767,760.75,761.33,728.11,754,758.38,797,632.91999999999996,596.25,675.25,616.13,860,752.81,766.25,767.25,531,1508,1450.28]
["2023-07-01",855.75,812.75,665.75,504,1445.75,752.15,601.33000000000004,796.48,1351.71,544.47,1032.5,950.75,835.75,975.75,845.75,985.75,845.75,908.25,775.75,803.42,790.75,790.75,749.08,771.75,784.63,815.75,607.25,584.08000000000004,698.25,624.25,852.75,755.25,854,855,540,1401,1387.9]
["2023-08-01",735,726.5,573,461,1360,657,510.32,688.08,1345.86,481.56,986.91,836.5,700,861.75,710,931.75,710,806.5,646.66999999999996,673.5,681.75,678.17,645.64,688,698.5,695,517.5,503,614.5,529,760.25,652.05999999999995,663.05,664.05,480,1382,1345.35]
["2023-09-01",709.25,663.75,541.5,476.75,1275,595.20000000000005,460.65,641.30999999999995,1209.24,449.16,981,804.25,619.25,844.25,639.25,959.25,649.25,804.86,634.25,628.58000000000004,645.25,625.91999999999996,612.5,602.25,620.63,644.25,458,466.5,628.75,479,696.75,588.75,597.15,598.15,443,1235,1212.9000000000001]
["2023-10-01",709.25,629.25,556.25,478.75,1287,564.88,492.76,665.47,1237.56,453.25,913.67,854.25,709.25,894.25,729.25,909.25,739.25,792.67,640.25,664.58,677,664.58,628.13,623.25,636.25,644.25,573.75,516.25,641.25,486.25,662.25,554.25,564.04999999999995,565.04999999999995,449,1244,1244.1500000000001]
["2023-11-01",702.5,643.25,570.25,461.75,1342.75,582.12,520.17999999999995,689.99,1283.8499999999999,443.09,922.97,849.5,729.5,912,749.5,1037,759.5,804.67,675.5,705.83,710.5,692.83,662.75,653.29999999999995,660,637.5,588.13,530.25,657.75,500.25,678,564.30999999999995,576,577,438,1302,1291.8499999999999]
["2023-12-01",723.5,642,628,471.25,1293.5,584.53,562.79999999999995,693.13,1241.77,442.45,893.59,813.5,723.5,921,743.5,1043.5,753.5,809.33,689.17,707.5,718.75,707.5,676.13,647.5,663,683.5,633,577.75,699.25,563,677,564.5,587.6,588.6,443,1268,1244.4000000000001]
["2024-01-01",692.25,610.5,595.25,448.25,1222.25,568.07000000000005,539.54,668.81,1169.04,426.76,844.5,800,707.25,907.25,727.25,962.25,737.25,778.25,665.25,682.58,701.5,679.58,649.38,621.25,639.25,652.25,607.58000000000004,567.75,672.75,532.75,662,550.75,573,574,425,1198,1168.75]
["2024-02-01",664.5,602.75,577.5,415.75,1128.25,540.97,526.42999999999995,642.33000000000004,1080.1500000000001,399.71,791.57,734,674,834,694,899,704,747.21,632.83000000000004,663.83,677.25,655.5,632.13,598,607.25,625,600.5,542.58000000000004,662.5,529.38,631.25,523,507.45,508.45,394,1108,1079.05]
["2024-03-01",645,626.5,561.5,442.25,1192,538.19000000000005,505.79,624.05999999999995,1134.22,418.22,758.48,687,660,787.5,680,905,690,735,615,646,653.75,645.33000000000004,611.25,584,593.88,611,560.25,524.08000000000004,595.75,512.75,624.25,531,536.25,537.25,414,1161,1137.4000000000001]
["2024-04-01",710.25,622.75,585,439.5,1145.5,581.34,538.16999999999996,680.04,1098.21,424.06,769.57,774,719.25,874.25,739.25,949.25,749.25,794.92,654.25,692.25,706.75,693.92,664.25,633.25,646.88,670.25,574.13,561.58000000000004,628.25,540,669.25,580.25,575.25,576.25,416,1131,1105.95]
["2024-05-01",739.75,708.75,678.5,446.25,1205,655.81,621.67999999999995,700.14,1143.3399999999999,425.79,767.43,809.75,749.75,879.75,769.75,939.75,779.75,812.25,696.42,704.75,702.75,709.08,670.38,663.75,678,705.75,670.17,638.5,701.25,638.5,742.75,656.25,649.75,650.75,417.75,1178.5,1146.4000000000001]
["2024-06-01",613,587.5,553.5,397.25,1150.5,536.27,506.07,564.63,1093.23,390.31,705.15,783,623,793,643,848,653,682.17,556.33000000000004,558.66999999999996,558.75,559.66999999999996,501.13,522,543.5,579,555,521.83000000000004,591,531,622.5,533.25,533.05999999999995,534.05999999999995,377,1134,1098.5999999999999]
["2024-07-01",581.5,549,527.25,382.75,1028.5,499.6,468.01,531.76,1000.07,374.59,619,741.5,566.5,756.5,586.5,891.5,596.5,649.5,518.16999999999996,514.83000000000004,524.75,521.16999999999996,465.88,490.5,510.75,541.5,508.92,477.25,557.25,492.25,579,497.75,497.75,498.75,366,1030,1025.4000000000001]
["2024-08-01",573.75,552.5,532.75,378,982,504.43,473.09,535.35,948.62,368.5,624.69000000000005,680.5,530.5,785.5,590.5,1000.5,630.5,648.21,511.58,521.25,532.80999999999995,523.91999999999996,485.5,472.75,498.88,508.75,465.25,481.08,567.75,510.25,552.5,503.31,503.31,504.31,355,966,961.4]
["2024-09-01",621.75,583.75,584,424.75,1057,524.74,508.65,572.29999999999995,993.91,392.62,631.42999999999995,676.75,571.75,891.75,631.75,1071.75,671.75,688.42,552.41999999999996,574.41999999999996,578.25,565.08000000000004,529.88,549.75,547.88,531.75,481.5,506.5,646.5,529,582,522.5,528.75,529.75,385,1010,998.9]
["2024-10-01",604.25,569.25,570.5,410.75,982.5,511.74,505.45,564.48,929.29,382.26,644.66999999999996,784.25,554.25,854.25,614.25,904.25,654.25,677.58,554.91999999999996,579.25,585.25,579.58000000000004,532.38,538.25,539.75,516.75,505.5,530.5,628,545.5,568,506.75,518,519,373,949,931.5]
["2024-11-01",564.5,526.25,537.75,415.75,988.75,479.04,482.12,558.98,937.46,400.69,638.87,744,551.25,811.25,611.25,866.25,651.25,660.96,523.83000000000004,565.08000000000004,583.30999999999995,583.66999999999996,541.25,513.5,523.16,533.75,550.63,525.75,607.75,513.5,544.5,464.94,492.9,493.9,394,961,934.1]
["2024-12-01",595.75,559.25,551.5,458.5,998.25,497.76,492.7,576.37,949.59,431.79,645.42999999999995,775.75,{"$f":"B142-40","v":555.75},795.75,{"$f":"B142+20","v":615.75},875.75,{"$f":"B142+60","v":655.75},669.92,563.08000000000004,600.75,607,602.08000000000004,552.89,549.75,549.38,538.25,562.16999999999996,529.5,631.5,510.75,559.25,483,507.25,508.25,432,980,942.65]
["2025-01-01",615.5,579.25,559.5,482,1042,518.89,504.04,594.71,977.61,449.65,660.71,760.5,565.5,828,625.5,915.5,665.5,670.5,607.83000000000004,616.16999999999996,613.75,608.5,564.79,564.5,567.88,558,584.83000000000004,544.25,652,522,599.25,505.5,527.25,528.25,452,1006.5,973.2]
["2025-02-01",582.25,558.25,537,453.5,1011.5,496.71,491.45,557.11,952.28,427.08,678,687.75,547.75,777.75,607.75,877.75,647.75,661.65,555.25,552.25,557.75,553.58000000000004,512.75,516.25,529.88,527.75,548.83000000000004,529.25,619.5,501.38,578,485.56,511.67,512.67000000000007,431,986.125,951.08]
["2025-03-01",592,557,537,457.25,1014.75,486.81,478.76,560.06100000000004,953.81,426.34,673.14,702,542,792,602,912,642,657.83,550,563.66999999999996,559.75,553.33000000000004,514.86,520,531.88,522,529,510.5,597,492,562,472,500.33,501.33,430,989,955.25]
["2025-04-01",614,514.25,513,467.25,1034.75,453.44,464.37,566.47,985.95,446.33,684,697,537,842,612,952,652,668.5,534.33000000000004,567.33000000000004,573.5,558.33000000000004,530.86,531,537.13,527,516.75,490.75,580.5,470.5,524.25,445.69,462.83,463.83,448.875,1018.75,988.23]
["2025-05-01",625.5,533.25,534,444,1041.75,468.26,480.22,603.17999999999995,992.18,419.89,700,733,565.5,850.5,640.5,985.5,680.5,694.67,569.5,623.83000000000004,621.75,611.83000000000004,567.21,579.5,578.5,555.5,534,494,601.5,496.5,543.25,460.75,474.5,475.5,425.5,1026.75,991.85]
["2025-06-01",603,506,528.75,420.5,1024.25,452.35,484.48,576.65,969.55,399.38,680,745.75,545.75,778.25,620.75,920.75,660.75,683.63,588,604.66999999999996,603.5,595,543.57000000000005,539.75,553.75,533,517.75,504.75,571.25,498.5,521,445.81,466.75,467.75,402,998,9768.43]
["2025-07-01"]
["2025-08-01"]
["2025-09-01"]
["2025-10-01"]
["2025-11-01"]
["2025-12-01"]

{"sheet":"Basis","index":3,"n_rows":62,"n_cols":15,"rows_kept":62,"cut":false,"hidden":false,"merged":[[2,9,2,13],[6,9,6,13]]}
[null,null,null,null,null,null,null,null,"Use the Drop-Down Menus in Cells L3 and L7 to select items."]
[null,null,"Use the Drop-Down Menu in Cell F4 to select item."]
[null,null,null,null,null,null,null,null,"Cash","Minneapolis Wheat (HRS, 14%, Truck)"]
[]
[null,null,null,null,null,null,null,null,"minus"]
[]
[null,{"$f":"VLOOKUP(J3,Codes!A2:B38,2,FALSE)","v":16},null,{"$f":"VLOOKUP(J7,Codes!A2:B38,2,FALSE)","v":2},null,{"$f":"J3","v":"Minneapolis Wheat (HRS, 14%, Truck)"},null,null,"Futures","Minneapolis Hard Red Spring Wheat Futures"]
[null,{"$f":"J3","v":"Minneapolis Wheat (HRS, 14%, Truck)"},null,{"$f":"J7","v":"Minneapolis Hard Red Spring Wheat Futures"},null,"minus"]
[null,null,null,null,null,{"$f":"J7","v":"Minneapolis Hard Red Spring Wheat Futures"},null,null,null,null,null,null,null,null,"2022-24"]
["Month",null,null,null,null,"Spread or Basis",null,null,"Month",2022,2023,2024,2025,null,"Average"]
[{"$f":"Data!A107","v":"2022-01-01"},{"$f":"IF(VLOOKUP(A11,Data!$A$11:$AL$154,Basis!$B$7,FALSE)=0,0,VLOOKUP(A11,Data!$A$11:$AL$154,Basis!$B$7,FALSE))","v":941.5},null,{"$f":"IF(VLOOKUP(A11,Data!$A$11:$AL$154,Basis!$D$7,FALSE)=0,0,VLOOKUP(A11,Data!$A$11:$AL$154,Basis!$D$7,FALSE))","v":906.5},null,{"$f":"IF(B11<>0, B11-D11,\"\")","v":35},null,null,"Jan.",{"$f":"IF(B11>0,F11,NA())","v":35},{"$f":"IF(B23>0,F23,NA())","v":25},{"$f":"IF(B35>0,F35,NA())","v":35},{"$f":"IF(B47>0,F47,NA())","v":10},null,{"$f":"AVERAGE(J11:L11)","v":31.666666666666668}]
[{"$f":"Data!A108","v":"2022-02-01"},{"$f":"IF(VLOOKUP(A12,Data!$A$11:$AL$154,Basis!$B$7,FALSE)=0,0,VLOOKUP(A12,Data!$A$11:$AL$154,Basis!$B$7,FALSE))","v":1034},null,{"$f":"IF(VLOOKUP(A12,Data!$A$11:$AL$154,Basis!$D$7,FALSE)=0,0,VLOOKUP(A12,Data!$A$11:$AL$154,Basis!$D$7,FALSE))","v":989},null,{"$f":"IF(B12<>0, B12-D12,\"\")","v":45},null,null,"Feb.",{"$f":"IF(B12>0,F12,NA())","v":45},{"$f":"IF(B24>0,F24,NA())","v":24},{"$f":"IF(B36>0,F36,NA())","v":29.5},{"$f":"IF(B48>0,F48,NA())","v":25.5},null,{"$f":"AVERAGE(J12:L12)","v":32.833333333333336}]
[{"$f":"Data!A109","v":"2022-03-01"},{"$f":"IF(VLOOKUP(A13,Data!$A$11:$AL$154,Basis!$B$7,FALSE)=0,0,VLOOKUP(A13,Data!$A$11:$AL$154,Basis!$B$7,FALSE))","v":1106.75},null,{"$f":"IF(VLOOKUP(A13,Data!$A$11:$AL$154,Basis!$D$7,FALSE)=0,0,VLOOKUP(A13,Data!$A$11:$AL$154,Basis!$D$7,FALSE))","v":1079.5},null,27.25,null,null,"Mar.",27.25,25,35,10,null,29.083333333333332]
[{"$f":"Data!A110","v":"2022-04-01"},{"$f":"IF(VLOOKUP(A14,Data!$A$11:$AL$154,Basis!$B$7,FALSE)=0,0,VLOOKUP(A14,Data!$A$11:$AL$154,Basis!$B$7,FALSE))","v":1196},null,{"$f":"IF(VLOOKUP(A14,Data!$A$11:$AL$154,Basis!$D$7,FALSE)=0,0,VLOOKUP(A14,Data!$A$11:$AL$154,Basis!$D$7,FALSE))","v":1161.25},null,34.75,null,null,"Apr.",34.75,25,29,-2,null,29.583333333333332]
[{"$f":"Data!A111","v":"2022-05-01"},{"$f":"IF(VLOOKUP(A15,Data!$A$11:$AL$154,Basis!$B$7,FALSE)=0,0,VLOOKUP(A15,Data!$A$11:$AL$154,Basis!$B$7,FALSE))","v":1272.5},null,{"$f":"IF(VLOOKUP(A15,Data!$A$11:$AL$154,Basis!$D$7,FALSE)=0,0,VLOOKUP(A15,Data!$A$11:$AL$154,Basis!$D$7,FALSE))","v":1247.5},null,25,null,null,"May",25,20,30,15,null,25]
[{"$f":"Data!A112","v":"2022-06-01"},{"$f":"IF(VLOOKUP(A16,Data!$A$11:$AL$154,Basis!$B$7,FALSE)=0,0,VLOOKUP(A16,Data!$A$11:$AL$154,Basis!$B$7,FALSE))","v":1022.75},null,{"$f":"IF(VLOOKUP(A16,Data!$A$11:$AL$154,Basis!$D$7,FALSE)=0,0,VLOOKUP(A16,Data!$A$11:$AL$154,Basis!$D$7,FALSE))","v":987.75},null,35,null,null,"Jne.",35,35,30,17.75,null,33.333333333333336]
[{"$f":"Data!A113","v":"2022-07-01"},{"$f":"IF(VLOOKUP(A17,Data!$A$11:$AL$154,Basis!$B$7,FALSE)=0,0,VLOOKUP(A17,Data!$A$11:$AL$154,Basis!$B$7,FALSE))","v":926},null,{"$f":"IF(VLOOKUP(A17,Data!$A$11:$AL$154,Basis!$D$7,FALSE)=0,0,VLOOKUP(A17,Data!$A$11:$AL$154,Basis!$D$7,FALSE))","v":906},null,20,null,null,"Jly.",20,-10,5,{"$error":"#N/A"},null,5]
[{"$f":"Data!A114","v":"2022-08-01"},{"$f":"IF(VLOOKUP(A18,Data!$A$11:$AL$154,Basis!$B$7,FALSE)=0,0,VLOOKUP(A18,Data!$A$11:$AL$154,Basis!$B$7,FALSE))","v":944.5},null,{"$f":"IF(VLOOKUP(A18,Data!$A$11:$AL$154,Basis!$D$7,FALSE)=0,0,VLOOKUP(A18,Data!$A$11:$AL$154,Basis!$D$7,FALSE))","v":915.5},null,29,null,null,"Aug.",29,-25,16.75,{"$error":"#N/A"},null,6.916666666666667]
[{"$f":"Data!A115","v":"2022-09-01"},{"$f":"IF(VLOOKUP(A19,Data!$A$11:$AL$154,Basis!$B$7,FALSE)=0,0,VLOOKUP(A19,Data!$A$11:$AL$154,Basis!$B$7,FALSE))","v":1007},null,{"$f":"IF(VLOOKUP(A19,Data!$A$11:$AL$154,Basis!$D$7,FALSE)=0,0,VLOOKUP(A19,Data!$A$11:$AL$154,Basis!$D$7,FALSE))","v":982},null,25,null,null,"Sep.",25,-70,10,{"$error":"#N/A"},null,-11.666666666666666]
[{"$f":"Data!A116","v":"2022-10-01"},{"$f":"IF(VLOOKUP(A20,Data!$A$11:$AL$154,Basis!$B$7,FALSE)=0,0,VLOOKUP(A20,Data!$A$11:$AL$154,Basis!$B$7,FALSE))","v":1006.25},null,{"$f":"IF(VLOOKUP(A20,Data!$A$11:$AL$154,Basis!$D$7,FALSE)=0,0,VLOOKUP(A20,Data!$A$11:$AL$154,Basis!$D$7,FALSE))","v":981.25},null,25,null,null,"Oct.",25,20,10,{"$error":"#N/A"},null,18.333333333333332]
[{"$f":"Data!A117","v":"2022-11-01"},{"$f":"IF(VLOOKUP(A21,Data!$A$11:$AL$154,Basis!$B$7,FALSE)=0,0,VLOOKUP(A21,Data!$A$11:$AL$154,Basis!$B$7,FALSE))","v":973},null,{"$f":"IF(VLOOKUP(A21,Data!$A$11:$AL$154,Basis!$D$7,FALSE)=0,0,VLOOKUP(A21,Data!$A$11:$AL$154,Basis!$D$7,FALSE))","v":956.75},null,16.25,null,null,"Nov.",16.25,47,46.75,{"$error":"#N/A"},null,36.666666666666664]
[{"$f":"Data!A118","v":"2022-12-01"},{"$f":"IF(VLOOKUP(A22,Data!$A$11:$AL$154,Basis!$B$7,FALSE)=0,0,VLOOKUP(A22,Data!$A$11:$AL$154,Basis!$B$7,FALSE))","v":968.75},null,{"$f":"IF(VLOOKUP(A22,Data!$A$11:$AL$154,Basis!$D$7,FALSE)=0,0,VLOOKUP(A22,Data!$A$11:$AL$154,Basis!$D$7,FALSE))","v":938.75},null,30,null,null,"Dec.",30,20,20,{"$error":"#N/A"},null,23.333333333333332]
[{"$f":"Data!A119","v":"2023-01-01"},{"$f":"IF(VLOOKUP(A23,Data!$A$11:$AL$154,Basis!$B$7,FALSE)=0,0,VLOOKUP(A23,Data!$A$11:$AL$154,Basis!$B$7,FALSE))","v":947.25},null,{"$f":"IF(VLOOKUP(A23,Data!$A$11:$AL$154,Basis!$D$7,FALSE)=0,0,VLOOKUP(A23,Data!$A$11:$AL$154,Basis!$D$7,FALSE))","v":922.25},null,25,null,null,"Average",{"$f":"AVERAGE(J11:J22)","v":28.9375},{"$f":"AVERAGE(K11:K22)","v":11.333333333333334},24.75,{"$error":"#N/A"},null,{"$f":"AVERAGE(O11:O22)","v":21.673611111111111}]
[{"$f":"Data!A120","v":"2023-02-01"},{"$f":"IF(VLOOKUP(A24,Data!$A$11:$AL$154,Basis!$B$7,FALSE)=0,0,VLOOKUP(A24,Data!$A$11:$AL$154,Basis!$B$7,FALSE))","v":894.75},null,{"$f":"IF(VLOOKUP(A24,Data!$A$11:$AL$154,Basis!$D$7,FALSE)=0,0,VLOOKUP(A24,Data!$A$11:$AL$154,Basis!$D$7,FALSE))","v":870.75},null,24]
[{"$f":"Data!A121","v":"2023-03-01"},{"$f":"IF(VLOOKUP(A25,Data!$A$11:$AL$154,Basis!$B$7,FALSE)=0,0,VLOOKUP(A25,Data!$A$11:$AL$154,Basis!$B$7,FALSE))","v":920.75},null,{"$f":"IF(VLOOKUP(A25,Data!$A$11:$AL$154,Basis!$D$7,FALSE)=0,0,VLOOKUP(A25,Data!$A$11:$AL$154,Basis!$D$7,FALSE))","v":895.75},null,25]
[{"$f":"Data!A122","v":"2023-04-01"},{"$f":"IF(VLOOKUP(A26,Data!$A$11:$AL$154,Basis!$B$7,FALSE)=0,0,VLOOKUP(A26,Data!$A$11:$AL$154,Basis!$B$7,FALSE))","v":813},null,{"$f":"IF(VLOOKUP(A26,Data!$A$11:$AL$154,Basis!$D$7,FALSE)=0,0,VLOOKUP(A26,Data!$A$11:$AL$154,Basis!$D$7,FALSE))","v":788},null,25]
[{"$f":"Data!A123","v":"2023-05-01"},{"$f":"IF(VLOOKUP(A27,Data!$A$11:$AL$154,Basis!$B$7,FALSE)=0,0,VLOOKUP(A27,Data!$A$11:$AL$154,Basis!$B$7,FALSE))","v":800},null,{"$f":"IF(VLOOKUP(A27,Data!$A$11:$AL$154,Basis!$D$7,FALSE)=0,0,VLOOKUP(A27,Data!$A$11:$AL$154,Basis!$D$7,FALSE))","v":780},null,20]
[{"$f":"Data!A124","v":"2023-06-01"},{"$f":"IF(VLOOKUP(A28,Data!$A$11:$AL$154,Basis!$B$7,FALSE)=0,0,VLOOKUP(A28,Data!$A$11:$AL$154,Basis!$B$7,FALSE))","v":837},null,{"$f":"IF(VLOOKUP(A28,Data!$A$11:$AL$154,Basis!$D$7,FALSE)=0,0,VLOOKUP(A28,Data!$A$11:$AL$154,Basis!$D$7,FALSE))","v":802},null,35]
[{"$f":"Data!A125","v":"2023-07-01"},{"$f":"IF(VLOOKUP(A29,Data!$A$11:$AL$154,Basis!$B$7,FALSE)=0,0,VLOOKUP(A29,Data!$A$11:$AL$154,Basis!$B$7,FALSE))","v":845.75},null,{"$f":"IF(VLOOKUP(A29,Data!$A$11:$AL$154,Basis!$D$7,FALSE)=0,0,VLOOKUP(A29,Data!$A$11:$AL$154,Basis!$D$7,FALSE))","v":855.75},null,-10]
[{"$f":"Data!A126","v":"2023-08-01"},{"$f":"IF(VLOOKUP(A30,Data!$A$11:$AL$154,Basis!$B$7,FALSE)=0,0,VLOOKUP(A30,Data!$A$11:$AL$154,Basis!$B$7,FALSE))","v":710},null,{"$f":"IF(VLOOKUP(A30,Data!$A$11:$AL$154,Basis!$D$7,FALSE)=0,0,VLOOKUP(A30,Data!$A$11:$AL$154,Basis!$D$7,FALSE))","v":735},null,-25]
[{"$f":"Data!A127","v":"2023-09-01"},{"$f":"IF(VLOOKUP(A31,Data!$A$11:$AL$154,Basis!$B$7,FALSE)=0,0,VLOOKUP(A31,Data!$A$11:$AL$154,Basis!$B$7,FALSE))","v":639.25},null,{"$f":"IF(VLOOKUP(A31,Data!$A$11:$AL$154,Basis!$D$7,FALSE)=0,0,VLOOKUP(A31,Data!$A$11:$AL$154,Basis!$D$7,FALSE))","v":709.25},null,-70]
[{"$f":"Data!A128","v":"2023-10-01"},{"$f":"IF(VLOOKUP(A32,Data!$A$11:$AL$154,Basis!$B$7,FALSE)=0,0,VLOOKUP(A32,Data!$A$11:$AL$154,Basis!$B$7,FALSE))","v":729.25},null,{"$f":"IF(VLOOKUP(A32,Data!$A$11:$AL$154,Basis!$D$7,FALSE)=0,0,VLOOKUP(A32,Data!$A$11:$AL$154,Basis!$D$7,FALSE))","v":709.25},null,20]
[{"$f":"Data!A129","v":"2023-11-01"},{"$f":"IF(VLOOKUP(A33,Data!$A$11:$AL$154,Basis!$B$7,FALSE)=0,0,VLOOKUP(A33,Data!$A$11:$AL$154,Basis!$B$7,FALSE))","v":749.5},null,{"$f":"IF(VLOOKUP(A33,Data!$A$11:$AL$154,Basis!$D$7,FALSE)=0,0,VLOOKUP(A33,Data!$A$11:$AL$154,Basis!$D$7,FALSE))","v":702.5},null,47]
[{"$f":"Data!A130","v":"2023-12-01"},{"$f":"IF(VLOOKUP(A34,Data!$A$11:$AL$154,Basis!$B$7,FALSE)=0,0,VLOOKUP(A34,Data!$A$11:$AL$154,Basis!$B$7,FALSE))","v":743.5},null,{"$f":"IF(VLOOKUP(A34,Data!$A$11:$AL$154,Basis!$D$7,FALSE)=0,0,VLOOKUP(A34,Data!$A$11:$AL$154,Basis!$D$7,FALSE))","v":723.5},null,20]
[{"$f":"Data!A131","v":"2024-01-01"},{"$f":"IF(VLOOKUP(A35,Data!$A$11:$AL$154,Basis!$B$7,FALSE)=0,0,VLOOKUP(A35,Data!$A$11:$AL$154,Basis!$B$7,FALSE))","v":727.25},null,{"$f":"IF(VLOOKUP(A35,Data!$A$11:$AL$154,Basis!$D$7,FALSE)=0,0,VLOOKUP(A35,Data!$A$11:$AL$154,Basis!$D$7,FALSE))","v":692.25},null,35]
[{"$f":"Data!A132","v":"2024-02-01"},{"$f":"IF(VLOOKUP(A36,Data!$A$11:$AL$154,Basis!$B$7,FALSE)=0,0,VLOOKUP(A36,Data!$A$11:$AL$154,Basis!$B$7,FALSE))","v":694},null,{"$f":"IF(VLOOKUP(A36,Data!$A$11:$AL$154,Basis!$D$7,FALSE)=0,0,VLOOKUP(A36,Data!$A$11:$AL$154,Basis!$D$7,FALSE))","v":664.5},null,29.5]
[{"$f":"Data!A133","v":"2024-03-01"},{"$f":"IF(VLOOKUP(A37,Data!$A$11:$AL$154,Basis!$B$7,FALSE)=0,0,VLOOKUP(A37,Data!$A$11:$AL$154,Basis!$B$7,FALSE))","v":680},null,{"$f":"IF(VLOOKUP(A37,Data!$A$11:$AL$154,Basis!$D$7,FALSE)=0,0,VLOOKUP(A37,Data!$A$11:$AL$154,Basis!$D$7,FALSE))","v":645},null,35]
[{"$f":"Data!A134","v":"2024-04-01"},{"$f":"IF(VLOOKUP(A38,Data!$A$11:$AL$154,Basis!$B$7,FALSE)=0,0,VLOOKUP(A38,Data!$A$11:$AL$154,Basis!$B$7,FALSE))","v":739.25},null,{"$f":"IF(VLOOKUP(A38,Data!$A$11:$AL$154,Basis!$D$7,FALSE)=0,0,VLOOKUP(A38,Data!$A$11:$AL$154,Basis!$D$7,FALSE))","v":710.25},null,29]
[{"$f":"Data!A135","v":"2024-05-01"},{"$f":"IF(VLOOKUP(A39,Data!$A$11:$AL$154,Basis!$B$7,FALSE)=0,0,VLOOKUP(A39,Data!$A$11:$AL$154,Basis!$B$7,FALSE))","v":769.75},null,{"$f":"IF(VLOOKUP(A39,Data!$A$11:$AL$154,Basis!$D$7,FALSE)=0,0,VLOOKUP(A39,Data!$A$11:$AL$154,Basis!$D$7,FALSE))","v":739.75},null,30]
[{"$f":"Data!A136","v":"2024-06-01"},{"$f":"IF(VLOOKUP(A40,Data!$A$11:$AL$154,Basis!$B$7,FALSE)=0,0,VLOOKUP(A40,Data!$A$11:$AL$154,Basis!$B$7,FALSE))","v":643},null,{"$f":"IF(VLOOKUP(A40,Data!$A$11:$AL$154,Basis!$D$7,FALSE)=0,0,VLOOKUP(A40,Data!$A$11:$AL$154,Basis!$D$7,FALSE))","v":613},null,30]
[{"$f":"Data!A137","v":"2024-07-01"},{"$f":"IF(VLOOKUP(A41,Data!$A$11:$AL$154,Basis!$B$7,FALSE)=0,0,VLOOKUP(A41,Data!$A$11:$AL$154,Basis!$B$7,FALSE))","v":586.5},null,{"$f":"IF(VLOOKUP(A41,Data!$A$11:$AL$154,Basis!$D$7,FALSE)=0,0,VLOOKUP(A41,Data!$A$11:$AL$154,Basis!$D$7,FALSE))","v":581.5},null,5]
[{"$f":"Data!A138","v":"2024-08-01"},{"$f":"IF(VLOOKUP(A42,Data!$A$11:$AL$154,Basis!$B$7,FALSE)=0,0,VLOOKUP(A42,Data!$A$11:$AL$154,Basis!$B$7,FALSE))","v":590.5},null,{"$f":"IF(VLOOKUP(A42,Data!$A$11:$AL$154,Basis!$D$7,FALSE)=0,0,VLOOKUP(A42,Data!$A$11:$AL$154,Basis!$D$7,FALSE))","v":573.75},null,16.75]
[{"$f":"Data!A139","v":"2024-09-01"},{"$f":"IF(VLOOKUP(A43,Data!$A$11:$AL$154,Basis!$B$7,FALSE)=0,0,VLOOKUP(A43,Data!$A$11:$AL$154,Basis!$B$7,FALSE))","v":631.75},null,{"$f":"IF(VLOOKUP(A43,Data!$A$11:$AL$154,Basis!$D$7,FALSE)=0,0,VLOOKUP(A43,Data!$A$11:$AL$154,Basis!$D$7,FALSE))","v":621.75},null,10]
[{"$f":"Data!A140","v":"2024-10-01"},{"$f":"IF(VLOOKUP(A44,Data!$A$11:$AL$154,Basis!$B$7,FALSE)=0,0,VLOOKUP(A44,Data!$A$11:$AL$154,Basis!$B$7,FALSE))","v":614.25},null,{"$f":"IF(VLOOKUP(A44,Data!$A$11:$AL$154,Basis!$D$7,FALSE)=0,0,VLOOKUP(A44,Data!$A$11:$AL$154,Basis!$D$7,FALSE))","v":604.25},null,10]
[{"$f":"Data!A141","v":"2024-11-01"},{"$f":"IF(VLOOKUP(A45,Data!$A$11:$AL$154,Basis!$B$7,FALSE)=0,0,VLOOKUP(A45,Data!$A$11:$AL$154,Basis!$B$7,FALSE))","v":611.25},null,{"$f":"IF(VLOOKUP(A45,Data!$A$11:$AL$154,Basis!$D$7,FALSE)=0,0,VLOOKUP(A45,Data!$A$11:$AL$154,Basis!$D$7,FALSE))","v":564.5},null,46.75]
[{"$f":"Data!A142","v":"2024-12-01"},{"$f":"IF(VLOOKUP(A46,Data!$A$11:$AL$154,Basis!$B$7,FALSE)=0,0,VLOOKUP(A46,Data!$A$11:$AL$154,Basis!$B$7,FALSE))","v":615.75},null,{"$f":"IF(VLOOKUP(A46,Data!$A$11:$AL$154,Basis!$D$7,FALSE)=0,0,VLOOKUP(A46,Data!$A$11:$AL$154,Basis!$D$7,FALSE))","v":595.75},null,20]
[{"$f":"Data!A143","v":"2025-01-01"},{"$f":"IF(VLOOKUP(A47,Data!$A$11:$AL$154,Basis!$B$7,FALSE)=0,0,VLOOKUP(A47,Data!$A$11:$AL$154,Basis!$B$7,FALSE))","v":625.5},null,{"$f":"IF(VLOOKUP(A47,Data!$A$11:$AL$154,Basis!$D$7,FALSE)=0,0,VLOOKUP(A47,Data!$A$11:$AL$154,Basis!$D$7,FALSE))","v":615.5},null,10]
[{"$f":"Data!A144","v":"2025-02-01"},{"$f":"IF(VLOOKUP(A48,Data!$A$11:$AL$154,Basis!$B$7,FALSE)=0,0,VLOOKUP(A48,Data!$A$11:$AL$154,Basis!$B$7,FALSE))","v":607.75},null,{"$f":"IF(VLOOKUP(A48,Data!$A$11:$AL$154,Basis!$D$7,FALSE)=0,0,VLOOKUP(A48,Data!$A$11:$AL$154,Basis!$D$7,FALSE))","v":582.25},null,25.5]
[{"$f":"Data!A145","v":"2025-03-01"},{"$f":"IF(VLOOKUP(A49,Data!$A$11:$AL$154,Basis!$B$7,FALSE)=0,0,VLOOKUP(A49,Data!$A$11:$AL$154,Basis!$B$7,FALSE))","v":602},null,{"$f":"IF(VLOOKUP(A49,Data!$A$11:$AL$154,Basis!$D$7,FALSE)=0,0,VLOOKUP(A49,Data!$A$11:$AL$154,Basis!$D$7,FALSE))","v":592},null,10]
[{"$f":"Data!A146","v":"2025-04-01"},{"$f":"IF(VLOOKUP(A50,Data!$A$11:$AL$154,Basis!$B$7,FALSE)=0,0,VLOOKUP(A50,Data!$A$11:$AL$154,Basis!$B$7,FALSE))","v":612},null,{"$f":"IF(VLOOKUP(A50,Data!$A$11:$AL$154,Basis!$D$7,FALSE)=0,0,VLOOKUP(A50,Data!$A$11:$AL$154,Basis!$D$7,FALSE))","v":614},null,-2]
[{"$f":"Data!A147","v":"2025-05-01"},{"$f":"IF(VLOOKUP(A51,Data!$A$11:$AL$154,Basis!$B$7,FALSE)=0,0,VLOOKUP(A51,Data!$A$11:$AL$154,Basis!$B$7,FALSE))","v":640.5},null,{"$f":"IF(VLOOKUP(A51,Data!$A$11:$AL$154,Basis!$D$7,FALSE)=0,0,VLOOKUP(A51,Data!$A$11:$AL$154,Basis!$D$7,FALSE))","v":625.5},null,15]
[{"$f":"Data!A148","v":"2025-06-01"},{"$f":"IF(VLOOKUP(A52,Data!$A$11:$AL$154,Basis!$B$7,FALSE)=0,0,VLOOKUP(A52,Data!$A$11:$AL$154,Basis!$B$7,FALSE))","v":620.75},null,{"$f":"IF(VLOOKUP(A52,Data!$A$11:$AL$154,Basis!$D$7,FALSE)=0,0,VLOOKUP(A52,Data!$A$11:$AL$154,Basis!$D$7,FALSE))","v":603},null,17.75]
[{"$f":"Data!A149","v":"2025-07-01"},{"$f":"IF(VLOOKUP(A53,Data!$A$11:$AL$154,Basis!$B$7,FALSE)=0,0,VLOOKUP(A53,Data!$A$11:$AL$154,Basis!$B$7,FALSE))","v":0},null,{"$f":"IF(VLOOKUP(A53,Data!$A$11:$AL$154,Basis!$D$7,FALSE)=0,0,VLOOKUP(A53,Data!$A$11:$AL$154,Basis!$D$7,FALSE))","v":0},null,""]
[{"$f":"Data!A150","v":"2025-08-01"},{"$f":"IF(VLOOKUP(A54,Data!$A$11:$AL$154,Basis!$B$7,FALSE)=0,0,VLOOKUP(A54,Data!$A$11:$AL$154,Basis!$B$7,FALSE))","v":0},null,{"$f":"IF(VLOOKUP(A54,Data!$A$11:$AL$154,Basis!$D$7,FALSE)=0,0,VLOOKUP(A54,Data!$A$11:$AL$154,Basis!$D$7,FALSE))","v":0},null,""]
[{"$f":"Data!A151","v":"2025-09-01"},{"$f":"IF(VLOOKUP(A55,Data!$A$11:$AL$154,Basis!$B$7,FALSE)=0,0,VLOOKUP(A55,Data!$A$11:$AL$154,Basis!$B$7,FALSE))","v":0},null,{"$f":"IF(VLOOKUP(A55,Data!$A$11:$AL$154,Basis!$D$7,FALSE)=0,0,VLOOKUP(A55,Data!$A$11:$AL$154,Basis!$D$7,FALSE))","v":0},null,""]
[{"$f":"Data!A152","v":"2025-10-01"},{"$f":"IF(VLOOKUP(A56,Data!$A$11:$AL$154,Basis!$B$7,FALSE)=0,0,VLOOKUP(A56,Data!$A$11:$AL$154,Basis!$B$7,FALSE))","v":0},null,{"$f":"IF(VLOOKUP(A56,Data!$A$11:$AL$154,Basis!$D$7,FALSE)=0,0,VLOOKUP(A56,Data!$A$11:$AL$154,Basis!$D$7,FALSE))","v":0},null,""]
[{"$f":"Data!A153","v":"2025-11-01"},{"$f":"IF(VLOOKUP(A57,Data!$A$11:$AL$154,Basis!$B$7,FALSE)=0,0,VLOOKUP(A57,Data!$A$11:$AL$154,Basis!$B$7,FALSE))","v":0},null,{"$f":"IF(VLOOKUP(A57,Data!$A$11:$AL$154,Basis!$D$7,FALSE)=0,0,VLOOKUP(A57,Data!$A$11:$AL$154,Basis!$D$7,FALSE))","v":0},null,""]
[{"$f":"Data!A154","v":"2025-12-01"},{"$f":"IF(VLOOKUP(A58,Data!$A$11:$AL$154,Basis!$B$7,FALSE)=0,0,VLOOKUP(A58,Data!$A$11:$AL$154,Basis!$B$7,FALSE))","v":0},null,{"$f":"IF(VLOOKUP(A58,Data!$A$11:$AL$154,Basis!$D$7,FALSE)=0,0,VLOOKUP(A58,Data!$A$11:$AL$154,Basis!$D$7,FALSE))","v":0},null,""]
[]
["Max",{"$f":"ROUNDUP(MAX(B11:B58),-1)+10","v":1290},null,{"$f":"ROUNDUP(MAX(D11:D58),-1)+10","v":1260},null,{"$f":"ROUNDUP(MAX(F11:F58),-1)+10","v":60}]
["Min",{"$f":"ROUNDDOWN(MIN(B11:B58),-1)-10","v":-10},null,{"$f":"ROUNDDOWN(MIN(D11:D58),-1)-10","v":-10},null,{"$f":"ROUNDDOWN(MIN(F11:F58),-1)-10","v":-80}]
["Scale",{"$f":"ROUNDUP(((B60-B61)/10),-1)","v":130},null,{"$f":"ROUNDUP(((D60-D61)/10),-1)","v":130},null,{"$f":"ROUNDUP(((F60-F61)/10),-1)","v":20}]

{"sheet":"Spreads","index":4,"n_rows":62,"n_cols":15,"rows_kept":62,"cut":false,"hidden":false,"merged":[[2,9,2,13],[6,9,6,13]]}
[null,null,null,null,null,null,null,null,"Use the Drop-Down Menus in Cells L3 and L7 to select items."]
[null,null,"Use the Drop-Down Menu in Cell F4 to select item."]
[null,null,null,null,null,null,null,null,"Futures 1","Minneapolis Hard Red Spring Wheat Futures"]
[]
[null,null,null,null,null,null,null,null,"minus"]
[]
[null,{"$f":"VLOOKUP(J3,Codes!A2:B38,2,FALSE)","v":2},null,{"$f":"VLOOKUP(J7,Codes!A2:B38,2,FALSE)","v":3},null,{"$f":"J3","v":"Minneapolis Hard Red Spring Wheat Futures"},null,null,"Futures 2","KCBT  Hard Red Winter Wheat Futures"]
[null,{"$f":"J3","v":"Minneapolis Hard Red Spring Wheat Futures"},null,{"$f":"J7","v":"KCBT  Hard Red Winter Wheat Futures"},null,"minus"]
[null,null,null,null,null,{"$f":"J7","v":"KCBT  Hard Red Winter Wheat Futures"}]
["Month",null,null,null,null,"Spread or Basis"]
[{"$f":"Data!A107","v":"2022-01-01"},{"$f":"IF(VLOOKUP(A11,Data!$A$11:$AL$154,Spreads!$B$7,FALSE)=0,\"\",VLOOKUP(A11,Data!$A$11:$AL$154,Spreads!$B$7,FALSE))","v":906.5},null,{"$f":"IF(VLOOKUP(A11,Data!$A$11:$AL$154,Spreads!$D$7,FALSE)=0,\"\",VLOOKUP(A11,Data!$A$11:$AL$154,Spreads!$D$7,FALSE))","v":781.25},null,{"$f":"IF(B11=\"\", \"\",B11-D11)","v":125.25},null,null,{"$f":"J3","v":"Minneapolis Hard Red Spring Wheat Futures"}]
[{"$f":"Data!A108","v":"2022-02-01"},{"$f":"IF(VLOOKUP(A12,Data!$A$11:$AL$154,Spreads!$B$7,FALSE)=0,\"\",VLOOKUP(A12,Data!$A$11:$AL$154,Spreads!$B$7,FALSE))","v":989},null,{"$f":"IF(VLOOKUP(A12,Data!$A$11:$AL$154,Spreads!$D$7,FALSE)=0,\"\",VLOOKUP(A12,Data!$A$11:$AL$154,Spreads!$D$7,FALSE))","v":954.25},null,{"$f":"IF(B12=\"\", \"\",B12-D12)","v":34.75},null,null,"minus"]
[{"$f":"Data!A109","v":"2022-03-01"},{"$f":"IF(VLOOKUP(A13,Data!$A$11:$AL$154,Spreads!$B$7,FALSE)=0,\"\",VLOOKUP(A13,Data!$A$11:$AL$154,Spreads!$B$7,FALSE))","v":1079.5},null,{"$f":"IF(VLOOKUP(A13,Data!$A$11:$AL$154,Spreads!$D$7,FALSE)=0,\"\",VLOOKUP(A13,Data!$A$11:$AL$154,Spreads!$D$7,FALSE))","v":1130.5},null,-51,null,null,{"$f":"J7","v":"KCBT  Hard Red Winter Wheat Futures"}]
[{"$f":"Data!A110","v":"2022-04-01"},{"$f":"IF(VLOOKUP(A14,Data!$A$11:$AL$154,Spreads!$B$7,FALSE)=0,\"\",VLOOKUP(A14,Data!$A$11:$AL$154,Spreads!$B$7,FALSE))","v":1161.25},null,{"$f":"IF(VLOOKUP(A14,Data!$A$11:$AL$154,Spreads!$D$7,FALSE)=0,\"\",VLOOKUP(A14,Data!$A$11:$AL$154,Spreads!$D$7,FALSE))","v":1094.25},null,67,null,null,"Futures Spread"]
[{"$f":"Data!A111","v":"2022-05-01"},{"$f":"IF(VLOOKUP(A15,Data!$A$11:$AL$154,Spreads!$B$7,FALSE)=0,\"\",VLOOKUP(A15,Data!$A$11:$AL$154,Spreads!$B$7,FALSE))","v":1247.5},null,{"$f":"IF(VLOOKUP(A15,Data!$A$11:$AL$154,Spreads!$D$7,FALSE)=0,\"\",VLOOKUP(A15,Data!$A$11:$AL$154,Spreads!$D$7,FALSE))","v":1165.5},null,82,null,null,null,null,null,null,null,null,"2022-24"]
[{"$f":"Data!A112","v":"2022-06-01"},{"$f":"IF(VLOOKUP(A16,Data!$A$11:$AL$154,Spreads!$B$7,FALSE)=0,\"\",VLOOKUP(A16,Data!$A$11:$AL$154,Spreads!$B$7,FALSE))","v":987.75},null,{"$f":"IF(VLOOKUP(A16,Data!$A$11:$AL$154,Spreads!$D$7,FALSE)=0,\"\",VLOOKUP(A16,Data!$A$11:$AL$154,Spreads!$D$7,FALSE))","v":948.75},null,39,null,null,"Month",2022,2023,2024,2025,null,"Average"]
[{"$f":"Data!A113","v":"2022-07-01"},{"$f":"IF(VLOOKUP(A17,Data!$A$11:$AL$154,Spreads!$B$7,FALSE)=0,\"\",VLOOKUP(A17,Data!$A$11:$AL$154,Spreads!$B$7,FALSE))","v":906},null,{"$f":"IF(VLOOKUP(A17,Data!$A$11:$AL$154,Spreads!$D$7,FALSE)=0,\"\",VLOOKUP(A17,Data!$A$11:$AL$154,Spreads!$D$7,FALSE))","v":874.5},null,31.5,null,null,"Jan.",{"$f":"IF(F11=\"\",NA(),F11)","v":125.25},{"$f":"IF(F23=\"\",NA(),F23)","v":43.5},{"$f":"IF(F35=\"\",NA(),F35)","v":81.75},{"$f":"IF(F47=\"\",NA(),F47)","v":36.25},null,{"$f":"AVERAGE(J17:L17)","v":83.5}]
[{"$f":"Data!A114","v":"2022-08-01"},{"$f":"IF(VLOOKUP(A18,Data!$A$11:$AL$154,Spreads!$B$7,FALSE)=0,\"\",VLOOKUP(A18,Data!$A$11:$AL$154,Spreads!$B$7,FALSE))","v":915.5},null,{"$f":"IF(VLOOKUP(A18,Data!$A$11:$AL$154,Spreads!$D$7,FALSE)=0,\"\",VLOOKUP(A18,Data!$A$11:$AL$154,Spreads!$D$7,FALSE))","v":924.25},null,-8.75,null,null,"Feb.",34.75,55,61.75,24,null,50.5]
[{"$f":"Data!A115","v":"2022-09-01"},{"$f":"IF(VLOOKUP(A19,Data!$A$11:$AL$154,Spreads!$B$7,FALSE)=0,\"\",VLOOKUP(A19,Data!$A$11:$AL$154,Spreads!$B$7,FALSE))","v":982},null,{"$f":"IF(VLOOKUP(A19,Data!$A$11:$AL$154,Spreads!$D$7,FALSE)=0,\"\",VLOOKUP(A19,Data!$A$11:$AL$154,Spreads!$D$7,FALSE))","v":991.5},null,-9.5,null,null,"Mar.",-51,18,18.5,35,null,-4.833333333333333]
[{"$f":"Data!A116","v":"2022-10-01"},{"$f":"IF(VLOOKUP(A20,Data!$A$11:$AL$154,Spreads!$B$7,FALSE)=0,\"\",VLOOKUP(A20,Data!$A$11:$AL$154,Spreads!$B$7,FALSE))","v":981.25},null,{"$f":"IF(VLOOKUP(A20,Data!$A$11:$AL$154,Spreads!$D$7,FALSE)=0,\"\",VLOOKUP(A20,Data!$A$11:$AL$154,Spreads!$D$7,FALSE))","v":924},null,57.25,null,null,"Apr.",67,-19.25,87.5,99.75,null,45.083333333333336]
[{"$f":"Data!A117","v":"2022-11-01"},{"$f":"IF(VLOOKUP(A21,Data!$A$11:$AL$154,Spreads!$B$7,FALSE)=0,\"\",VLOOKUP(A21,Data!$A$11:$AL$154,Spreads!$B$7,FALSE))","v":956.75},null,{"$f":"IF(VLOOKUP(A21,Data!$A$11:$AL$154,Spreads!$D$7,FALSE)=0,\"\",VLOOKUP(A21,Data!$A$11:$AL$154,Spreads!$D$7,FALSE))","v":913.25},null,43.5,null,null,"May",82,130.5,31,92.25,null,81.166666666666671]
[{"$f":"Data!A118","v":"2022-12-01"},{"$f":"IF(VLOOKUP(A22,Data!$A$11:$AL$154,Spreads!$B$7,FALSE)=0,\"\",VLOOKUP(A22,Data!$A$11:$AL$154,Spreads!$B$7,FALSE))","v":938.75},null,{"$f":"IF(VLOOKUP(A22,Data!$A$11:$AL$154,Spreads!$D$7,FALSE)=0,\"\",VLOOKUP(A22,Data!$A$11:$AL$154,Spreads!$D$7,FALSE))","v":888},null,50.75,null,null,"Jne.",39,0.75,25.5,97,null,21.75]
[{"$f":"Data!A119","v":"2023-01-01"},{"$f":"IF(VLOOKUP(A23,Data!$A$11:$AL$154,Spreads!$B$7,FALSE)=0,\"\",VLOOKUP(A23,Data!$A$11:$AL$154,Spreads!$B$7,FALSE))","v":922.25},null,{"$f":"IF(VLOOKUP(A23,Data!$A$11:$AL$154,Spreads!$D$7,FALSE)=0,\"\",VLOOKUP(A23,Data!$A$11:$AL$154,Spreads!$D$7,FALSE))","v":878.75},null,43.5,null,null,"Jly.",31.5,43,32.5,{"$error":"#N/A"},null,35.666666666666664]
[{"$f":"Data!A120","v":"2023-02-01"},{"$f":"IF(VLOOKUP(A24,Data!$A$11:$AL$154,Spreads!$B$7,FALSE)=0,\"\",VLOOKUP(A24,Data!$A$11:$AL$154,Spreads!$B$7,FALSE))","v":870.75},null,{"$f":"IF(VLOOKUP(A24,Data!$A$11:$AL$154,Spreads!$D$7,FALSE)=0,\"\",VLOOKUP(A24,Data!$A$11:$AL$154,Spreads!$D$7,FALSE))","v":815.75},null,55,null,null,"Aug.",-8.75,8.5,21.25,{"$error":"#N/A"},null,7]
[{"$f":"Data!A121","v":"2023-03-01"},{"$f":"IF(VLOOKUP(A25,Data!$A$11:$AL$154,Spreads!$B$7,FALSE)=0,\"\",VLOOKUP(A25,Data!$A$11:$AL$154,Spreads!$B$7,FALSE))","v":895.75},null,{"$f":"IF(VLOOKUP(A25,Data!$A$11:$AL$154,Spreads!$D$7,FALSE)=0,\"\",VLOOKUP(A25,Data!$A$11:$AL$154,Spreads!$D$7,FALSE))","v":877.75},null,18,null,null,"Sep.",-9.5,45.5,38,{"$error":"#N/A"},null,24.666666666666668]
[{"$f":"Data!A122","v":"2023-04-01"},{"$f":"IF(VLOOKUP(A26,Data!$A$11:$AL$154,Spreads!$B$7,FALSE)=0,\"\",VLOOKUP(A26,Data!$A$11:$AL$154,Spreads!$B$7,FALSE))","v":788},null,{"$f":"IF(VLOOKUP(A26,Data!$A$11:$AL$154,Spreads!$D$7,FALSE)=0,\"\",VLOOKUP(A26,Data!$A$11:$AL$154,Spreads!$D$7,FALSE))","v":807.25},null,-19.25,null,null,"Oct.",57.25,80,35,{"$error":"#N/A"},null,57.416666666666664]
[{"$f":"Data!A123","v":"2023-05-01"},{"$f":"IF(VLOOKUP(A27,Data!$A$11:$AL$154,Spreads!$B$7,FALSE)=0,\"\",VLOOKUP(A27,Data!$A$11:$AL$154,Spreads!$B$7,FALSE))","v":780},null,{"$f":"IF(VLOOKUP(A27,Data!$A$11:$AL$154,Spreads!$D$7,FALSE)=0,\"\",VLOOKUP(A27,Data!$A$11:$AL$154,Spreads!$D$7,FALSE))","v":649.5},null,130.5,null,null,"Nov.",43.5,59.25,38.25,{"$error":"#N/A"},null,47]
[{"$f":"Data!A124","v":"2023-06-01"},{"$f":"IF(VLOOKUP(A28,Data!$A$11:$AL$154,Spreads!$B$7,FALSE)=0,\"\",VLOOKUP(A28,Data!$A$11:$AL$154,Spreads!$B$7,FALSE))","v":802},null,{"$f":"IF(VLOOKUP(A28,Data!$A$11:$AL$154,Spreads!$D$7,FALSE)=0,\"\",VLOOKUP(A28,Data!$A$11:$AL$154,Spreads!$D$7,FALSE))","v":801.25},null,0.75,null,null,"Dec.",50.75,81.5,36.5,{"$error":"#N/A"},null,56.25]
[{"$f":"Data!A125","v":"2023-07-01"},{"$f":"IF(VLOOKUP(A29,Data!$A$11:$AL$154,Spreads!$B$7,FALSE)=0,\"\",VLOOKUP(A29,Data!$A$11:$AL$154,Spreads!$B$7,FALSE))","v":855.75},null,{"$f":"IF(VLOOKUP(A29,Data!$A$11:$AL$154,Spreads!$D$7,FALSE)=0,\"\",VLOOKUP(A29,Data!$A$11:$AL$154,Spreads!$D$7,FALSE))","v":812.75},null,43,null,null,"Average",{"$f":"AVERAGE(J17:J28)","v":38.479166666666664},{"$f":"AVERAGE(K17:K28)","v":45.520833333333336},{"$f":"AVERAGE(L17:L28)","v":42.291666666666664},{"$error":"#N/A"},null,{"$f":"AVERAGE(O17:O28)","v":42.097222222222229}]
[{"$f":"Data!A126","v":"2023-08-01"},{"$f":"IF(VLOOKUP(A30,Data!$A$11:$AL$154,Spreads!$B$7,FALSE)=0,\"\",VLOOKUP(A30,Data!$A$11:$AL$154,Spreads!$B$7,FALSE))","v":735},null,{"$f":"IF(VLOOKUP(A30,Data!$A$11:$AL$154,Spreads!$D$7,FALSE)=0,\"\",VLOOKUP(A30,Data!$A$11:$AL$154,Spreads!$D$7,FALSE))","v":726.5},null,8.5]
[{"$f":"Data!A127","v":"2023-09-01"},{"$f":"IF(VLOOKUP(A31,Data!$A$11:$AL$154,Spreads!$B$7,FALSE)=0,\"\",VLOOKUP(A31,Data!$A$11:$AL$154,Spreads!$B$7,FALSE))","v":709.25},null,{"$f":"IF(VLOOKUP(A31,Data!$A$11:$AL$154,Spreads!$D$7,FALSE)=0,\"\",VLOOKUP(A31,Data!$A$11:$AL$154,Spreads!$D$7,FALSE))","v":663.75},null,45.5]
[{"$f":"Data!A128","v":"2023-10-01"},{"$f":"IF(VLOOKUP(A32,Data!$A$11:$AL$154,Spreads!$B$7,FALSE)=0,\"\",VLOOKUP(A32,Data!$A$11:$AL$154,Spreads!$B$7,FALSE))","v":709.25},null,{"$f":"IF(VLOOKUP(A32,Data!$A$11:$AL$154,Spreads!$D$7,FALSE)=0,\"\",VLOOKUP(A32,Data!$A$11:$AL$154,Spreads!$D$7,FALSE))","v":629.25},null,80]
[{"$f":"Data!A129","v":"2023-11-01"},{"$f":"IF(VLOOKUP(A33,Data!$A$11:$AL$154,Spreads!$B$7,FALSE)=0,\"\",VLOOKUP(A33,Data!$A$11:$AL$154,Spreads!$B$7,FALSE))","v":702.5},null,{"$f":"IF(VLOOKUP(A33,Data!$A$11:$AL$154,Spreads!$D$7,FALSE)=0,\"\",VLOOKUP(A33,Data!$A$11:$AL$154,Spreads!$D$7,FALSE))","v":643.25},null,59.25]
[{"$f":"Data!A130","v":"2023-12-01"},{"$f":"IF(VLOOKUP(A34,Data!$A$11:$AL$154,Spreads!$B$7,FALSE)=0,\"\",VLOOKUP(A34,Data!$A$11:$AL$154,Spreads!$B$7,FALSE))","v":723.5},null,{"$f":"IF(VLOOKUP(A34,Data!$A$11:$AL$154,Spreads!$D$7,FALSE)=0,\"\",VLOOKUP(A34,Data!$A$11:$AL$154,Spreads!$D$7,FALSE))","v":642},null,81.5]
[{"$f":"Data!A131","v":"2024-01-01"},{"$f":"IF(VLOOKUP(A35,Data!$A$11:$AL$154,Spreads!$B$7,FALSE)=0,\"\",VLOOKUP(A35,Data!$A$11:$AL$154,Spreads!$B$7,FALSE))","v":692.25},null,{"$f":"IF(VLOOKUP(A35,Data!$A$11:$AL$154,Spreads!$D$7,FALSE)=0,\"\",VLOOKUP(A35,Data!$A$11:$AL$154,Spreads!$D$7,FALSE))","v":610.5},null,81.75]
[{"$f":"Data!A132","v":"2024-02-01"},{"$f":"IF(VLOOKUP(A36,Data!$A$11:$AL$154,Spreads!$B$7,FALSE)=0,\"\",VLOOKUP(A36,Data!$A$11:$AL$154,Spreads!$B$7,FALSE))","v":664.5},null,{"$f":"IF(VLOOKUP(A36,Data!$A$11:$AL$154,Spreads!$D$7,FALSE)=0,\"\",VLOOKUP(A36,Data!$A$11:$AL$154,Spreads!$D$7,FALSE))","v":602.75},null,61.75]
[{"$f":"Data!A133","v":"2024-03-01"},{"$f":"IF(VLOOKUP(A37,Data!$A$11:$AL$154,Spreads!$B$7,FALSE)=0,\"\",VLOOKUP(A37,Data!$A$11:$AL$154,Spreads!$B$7,FALSE))","v":645},null,{"$f":"IF(VLOOKUP(A37,Data!$A$11:$AL$154,Spreads!$D$7,FALSE)=0,\"\",VLOOKUP(A37,Data!$A$11:$AL$154,Spreads!$D$7,FALSE))","v":626.5},null,18.5]
[{"$f":"Data!A134","v":"2024-04-01"},{"$f":"IF(VLOOKUP(A38,Data!$A$11:$AL$154,Spreads!$B$7,FALSE)=0,\"\",VLOOKUP(A38,Data!$A$11:$AL$154,Spreads!$B$7,FALSE))","v":710.25},null,{"$f":"IF(VLOOKUP(A38,Data!$A$11:$AL$154,Spreads!$D$7,FALSE)=0,\"\",VLOOKUP(A38,Data!$A$11:$AL$154,Spreads!$D$7,FALSE))","v":622.75},null,87.5,null,null,null,null," "]
[{"$f":"Data!A135","v":"2024-05-01"},{"$f":"IF(VLOOKUP(A39,Data!$A$11:$AL$154,Spreads!$B$7,FALSE)=0,\"\",VLOOKUP(A39,Data!$A$11:$AL$154,Spreads!$B$7,FALSE))","v":739.75},null,{"$f":"IF(VLOOKUP(A39,Data!$A$11:$AL$154,Spreads!$D$7,FALSE)=0,\"\",VLOOKUP(A39,Data!$A$11:$AL$154,Spreads!$D$7,FALSE))","v":708.75},null,31]
[{"$f":"Data!A136","v":"2024-06-01"},{"$f":"IF(VLOOKUP(A40,Data!$A$11:$AL$154,Spreads!$B$7,FALSE)=0,\"\",VLOOKUP(A40,Data!$A$11:$AL$154,Spreads!$B$7,FALSE))","v":613},null,{"$f":"IF(VLOOKUP(A40,Data!$A$11:$AL$154,Spreads!$D$7,FALSE)=0,\"\",VLOOKUP(A40,Data!$A$11:$AL$154,Spreads!$D$7,FALSE))","v":587.5},null,25.5]
[{"$f":"Data!A137","v":"2024-07-01"},{"$f":"IF(VLOOKUP(A41,Data!$A$11:$AL$154,Spreads!$B$7,FALSE)=0,\"\",VLOOKUP(A41,Data!$A$11:$AL$154,Spreads!$B$7,FALSE))","v":581.5},null,{"$f":"IF(VLOOKUP(A41,Data!$A$11:$AL$154,Spreads!$D$7,FALSE)=0,\"\",VLOOKUP(A41,Data!$A$11:$AL$154,Spreads!$D$7,FALSE))","v":549},null,32.5]
[{"$f":"Data!A138","v":"2024-08-01"},{"$f":"IF(VLOOKUP(A42,Data!$A$11:$AL$154,Spreads!$B$7,FALSE)=0,\"\",VLOOKUP(A42,Data!$A$11:$AL$154,Spreads!$B$7,FALSE))","v":573.75},null,{"$f":"IF(VLOOKUP(A42,Data!$A$11:$AL$154,Spreads!$D$7,FALSE)=0,\"\",VLOOKUP(A42,Data!$A$11:$AL$154,Spreads!$D$7,FALSE))","v":552.5},null,21.25]
[{"$f":"Data!A139","v":"2024-09-01"},{"$f":"IF(VLOOKUP(A43,Data!$A$11:$AL$154,Spreads!$B$7,FALSE)=0,\"\",VLOOKUP(A43,Data!$A$11:$AL$154,Spreads!$B$7,FALSE))","v":621.75},null,{"$f":"IF(VLOOKUP(A43,Data!$A$11:$AL$154,Spreads!$D$7,FALSE)=0,\"\",VLOOKUP(A43,Data!$A$11:$AL$154,Spreads!$D$7,FALSE))","v":583.75},null,38]
[{"$f":"Data!A140","v":"2024-10-01"},{"$f":"IF(VLOOKUP(A44,Data!$A$11:$AL$154,Spreads!$B$7,FALSE)=0,\"\",VLOOKUP(A44,Data!$A$11:$AL$154,Spreads!$B$7,FALSE))","v":604.25},null,{"$f":"IF(VLOOKUP(A44,Data!$A$11:$AL$154,Spreads!$D$7,FALSE)=0,\"\",VLOOKUP(A44,Data!$A$11:$AL$154,Spreads!$D$7,FALSE))","v":569.25},null,35]
[{"$f":"Data!A141","v":"2024-11-01"},{"$f":"IF(VLOOKUP(A45,Data!$A$11:$AL$154,Spreads!$B$7,FALSE)=0,\"\",VLOOKUP(A45,Data!$A$11:$AL$154,Spreads!$B$7,FALSE))","v":564.5},null,{"$f":"IF(VLOOKUP(A45,Data!$A$11:$AL$154,Spreads!$D$7,FALSE)=0,\"\",VLOOKUP(A45,Data!$A$11:$AL$154,Spreads!$D$7,FALSE))","v":526.25},null,38.25]
[{"$f":"Data!A142","v":"2024-12-01"},{"$f":"IF(VLOOKUP(A46,Data!$A$11:$AL$154,Spreads!$B$7,FALSE)=0,\"\",VLOOKUP(A46,Data!$A$11:$AL$154,Spreads!$B$7,FALSE))","v":595.75},null,{"$f":"IF(VLOOKUP(A46,Data!$A$11:$AL$154,Spreads!$D$7,FALSE)=0,\"\",VLOOKUP(A46,Data!$A$11:$AL$154,Spreads!$D$7,FALSE))","v":559.25},null,36.5]
[{"$f":"Data!A143","v":"2025-01-01"},{"$f":"IF(VLOOKUP(A47,Data!$A$11:$AL$154,Spreads!$B$7,FALSE)=0,\"\",VLOOKUP(A47,Data!$A$11:$AL$154,Spreads!$B$7,FALSE))","v":615.5},null,{"$f":"IF(VLOOKUP(A47,Data!$A$11:$AL$154,Spreads!$D$7,FALSE)=0,\"\",VLOOKUP(A47,Data!$A$11:$AL$154,Spreads!$D$7,FALSE))","v":579.25},null,36.25]
[{"$f":"Data!A144","v":"2025-02-01"},{"$f":"IF(VLOOKUP(A48,Data!$A$11:$AL$154,Spreads!$B$7,FALSE)=0,\"\",VLOOKUP(A48,Data!$A$11:$AL$154,Spreads!$B$7,FALSE))","v":582.25},null,{"$f":"IF(VLOOKUP(A48,Data!$A$11:$AL$154,Spreads!$D$7,FALSE)=0,\"\",VLOOKUP(A48,Data!$A$11:$AL$154,Spreads!$D$7,FALSE))","v":558.25},null,24]
[{"$f":"Data!A145","v":"2025-03-01"},{"$f":"IF(VLOOKUP(A49,Data!$A$11:$AL$154,Spreads!$B$7,FALSE)=0,\"\",VLOOKUP(A49,Data!$A$11:$AL$154,Spreads!$B$7,FALSE))","v":592},null,{"$f":"IF(VLOOKUP(A49,Data!$A$11:$AL$154,Spreads!$D$7,FALSE)=0,\"\",VLOOKUP(A49,Data!$A$11:$AL$154,Spreads!$D$7,FALSE))","v":557},null,35]
[{"$f":"Data!A146","v":"2025-04-01"},{"$f":"IF(VLOOKUP(A50,Data!$A$11:$AL$154,Spreads!$B$7,FALSE)=0,\"\",VLOOKUP(A50,Data!$A$11:$AL$154,Spreads!$B$7,FALSE))","v":614},null,{"$f":"IF(VLOOKUP(A50,Data!$A$11:$AL$154,Spreads!$D$7,FALSE)=0,\"\",VLOOKUP(A50,Data!$A$11:$AL$154,Spreads!$D$7,FALSE))","v":514.25},null,99.75]
[{"$f":"Data!A147","v":"2025-05-01"},{"$f":"IF(VLOOKUP(A51,Data!$A$11:$AL$154,Spreads!$B$7,FALSE)=0,\"\",VLOOKUP(A51,Data!$A$11:$AL$154,Spreads!$B$7,FALSE))","v":625.5},null,{"$f":"IF(VLOOKUP(A51,Data!$A$11:$AL$154,Spreads!$D$7,FALSE)=0,\"\",VLOOKUP(A51,Data!$A$11:$AL$154,Spreads!$D$7,FALSE))","v":533.25},null,92.25]
[{"$f":"Data!A148","v":"2025-06-01"},{"$f":"IF(VLOOKUP(A52,Data!$A$11:$AL$154,Spreads!$B$7,FALSE)=0,\"\",VLOOKUP(A52,Data!$A$11:$AL$154,Spreads!$B$7,FALSE))","v":603},null,{"$f":"IF(VLOOKUP(A52,Data!$A$11:$AL$154,Spreads!$D$7,FALSE)=0,\"\",VLOOKUP(A52,Data!$A$11:$AL$154,Spreads!$D$7,FALSE))","v":506},null,97]
[{"$f":"Data!A149","v":"2025-07-01"},{"$f":"IF(VLOOKUP(A53,Data!$A$11:$AL$154,Spreads!$B$7,FALSE)=0,\"\",VLOOKUP(A53,Data!$A$11:$AL$154,Spreads!$B$7,FALSE))","v":""},null,{"$f":"IF(VLOOKUP(A53,Data!$A$11:$AL$154,Spreads!$D$7,FALSE)=0,\"\",VLOOKUP(A53,Data!$A$11:$AL$154,Spreads!$D$7,FALSE))","v":""},null,""]
[{"$f":"Data!A150","v":"2025-08-01"},{"$f":"IF(VLOOKUP(A54,Data!$A$11:$AL$154,Spreads!$B$7,FALSE)=0,\"\",VLOOKUP(A54,Data!$A$11:$AL$154,Spreads!$B$7,FALSE))","v":""},null,{"$f":"IF(VLOOKUP(A54,Data!$A$11:$AL$154,Spreads!$D$7,FALSE)=0,\"\",VLOOKUP(A54,Data!$A$11:$AL$154,Spreads!$D$7,FALSE))","v":""},null,""]
[{"$f":"Data!A151","v":"2025-09-01"},{"$f":"IF(VLOOKUP(A55,Data!$A$11:$AL$154,Spreads!$B$7,FALSE)=0,\"\",VLOOKUP(A55,Data!$A$11:$AL$154,Spreads!$B$7,FALSE))","v":""},null,{"$f":"IF(VLOOKUP(A55,Data!$A$11:$AL$154,Spreads!$D$7,FALSE)=0,\"\",VLOOKUP(A55,Data!$A$11:$AL$154,Spreads!$D$7,FALSE))","v":""},null,""]
[{"$f":"Data!A152","v":"2025-10-01"},{"$f":"IF(VLOOKUP(A56,Data!$A$11:$AL$154,Spreads!$B$7,FALSE)=0,\"\",VLOOKUP(A56,Data!$A$11:$AL$154,Spreads!$B$7,FALSE))","v":""},null,{"$f":"IF(VLOOKUP(A56,Data!$A$11:$AL$154,Spreads!$D$7,FALSE)=0,\"\",VLOOKUP(A56,Data!$A$11:$AL$154,Spreads!$D$7,FALSE))","v":""},null,""]
[{"$f":"Data!A153","v":"2025-11-01"},{"$f":"IF(VLOOKUP(A57,Data!$A$11:$AL$154,Spreads!$B$7,FALSE)=0,\"\",VLOOKUP(A57,Data!$A$11:$AL$154,Spreads!$B$7,FALSE))","v":""},null,{"$f":"IF(VLOOKUP(A57,Data!$A$11:$AL$154,Spreads!$D$7,FALSE)=0,\"\",VLOOKUP(A57,Data!$A$11:$AL$154,Spreads!$D$7,FALSE))","v":""},null,""]
[{"$f":"Data!A154","v":"2025-12-01"},{"$f":"IF(VLOOKUP(A58,Data!$A$11:$AL$154,Spreads!$B$7,FALSE)=0,\"\",VLOOKUP(A58,Data!$A$11:$AL$154,Spreads!$B$7,FALSE))","v":""},null,{"$f":"IF(VLOOKUP(A58,Data!$A$11:$AL$154,Spreads!$D$7,FALSE)=0,\"\",VLOOKUP(A58,Data!$A$11:$AL$154,Spreads!$D$7,FALSE))","v":""},null,""]
[]
["Max",{"$f":"ROUNDUP(MAX(B11:D58),-1)+10","v":1260},null,{"$f":"ROUNDUP(MAX(D11:D58),-1)+10","v":1180},null,{"$f":"ROUNDUP(MAX(F11:F58),-1)+10","v":150}]
["Min",{"$f":"ROUNDDOWN(MIN(B11:D58),-1)-10","v":490},null,{"$f":"ROUNDDOWN(MIN(D11:D58),-1)-10","v":490},null,{"$f":"ROUNDDOWN(MIN(F11:F58),-1)-10","v":-60}]
["Scale",{"$f":"ROUNDUP(((B60-B61)/10),-1)","v":80},null,{"$f":"ROUNDUP(((D60-D61)/10),-1)","v":70},null,{"$f":"ROUNDUP(((F60-F61)/10),-1)","v":30}]

{"sheet":"Prices","index":5,"n_rows":62,"n_cols":14,"rows_kept":62,"cut":false,"hidden":false,"merged":[[2,8,2,12],[6,8,6,12]]}
[null,null,null,null,null,null,null,"Use the Drop-Down Menus in Cells L3 and L7 to select items."]
[null,null,"Use the Drop-Down Menu in Cell F4 to select item."]
[null,null,null,null,null,null,null,"Price 1","Minneapolis Hard Red Spring Wheat Futures"]
[]
[null,null,null,null,null,null,null,"minus"]
[]
[null,{"$f":"VLOOKUP(I3,Codes!A2:B38,2,FALSE)","v":2},null,{"$f":"VLOOKUP(I7,Codes!A2:B38,2,FALSE)","v":3},null,null,null,"Price 2","KCBT  Hard Red Winter Wheat Futures"]
[null,{"$f":"I3","v":"Minneapolis Hard Red Spring Wheat Futures"},null,{"$f":"I7","v":"KCBT  Hard Red Winter Wheat Futures"}]
[]
["Month",null,null,null,null,null,null,{"$f":"I3","v":"Minneapolis Hard Red Spring Wheat Futures"}]
[{"$f":"Data!A107","v":"2022-01-01"},{"$f":"IF(VLOOKUP(A11,Data!$A$11:$AL$154,Prices!$B$7,FALSE)=0,\"\",VLOOKUP(A11,Data!$A$11:$AL$154,Prices!$B$7,FALSE))","v":906.5},null,{"$f":"IF(VLOOKUP(A11,Data!$A$11:$AL$154,Prices!$D$7,FALSE)=0,\"\",VLOOKUP(A11,Data!$A$11:$AL$154,Prices!$D$7,FALSE))","v":781.25},null,null,null,null,null,null,null,null,null,"2022-24"]
[{"$f":"Data!A108","v":"2022-02-01"},{"$f":"IF(VLOOKUP(A12,Data!$A$11:$AL$154,Prices!$B$7,FALSE)=0,\"\",VLOOKUP(A12,Data!$A$11:$AL$154,Prices!$B$7,FALSE))","v":989},null,{"$f":"IF(VLOOKUP(A12,Data!$A$11:$AL$154,Prices!$D$7,FALSE)=0,\"\",VLOOKUP(A12,Data!$A$11:$AL$154,Prices!$D$7,FALSE))","v":954.25},null,null,null,"Month",2022,2023,2024,2025,null,"Average"]
[{"$f":"Data!A109","v":"2022-03-01"},{"$f":"IF(VLOOKUP(A13,Data!$A$11:$AL$154,Prices!$B$7,FALSE)=0,\"\",VLOOKUP(A13,Data!$A$11:$AL$154,Prices!$B$7,FALSE))","v":1079.5},null,{"$f":"IF(VLOOKUP(A13,Data!$A$11:$AL$154,Prices!$D$7,FALSE)=0,\"\",VLOOKUP(A13,Data!$A$11:$AL$154,Prices!$D$7,FALSE))","v":1130.5},null,null,null,"Jan.",{"$f":"IF(B11=\"\",NA(),B11)","v":906.5},{"$f":"IF(B23=\"\",NA(),B23)","v":922.25},{"$f":"IF(B35=\"\",NA(),B35)","v":692.25},{"$f":"IF(B47=\"\",NA(),B47)","v":615.5},null,{"$f":"AVERAGE(I13:K13)","v":840.33333333333337}]
[{"$f":"Data!A110","v":"2022-04-01"},{"$f":"IF(VLOOKUP(A14,Data!$A$11:$AL$154,Prices!$B$7,FALSE)=0,\"\",VLOOKUP(A14,Data!$A$11:$AL$154,Prices!$B$7,FALSE))","v":1161.25},null,{"$f":"IF(VLOOKUP(A14,Data!$A$11:$AL$154,Prices!$D$7,FALSE)=0,\"\",VLOOKUP(A14,Data!$A$11:$AL$154,Prices!$D$7,FALSE))","v":1094.25},null,null,null,"Feb.",989,870.75,664.5,582.25,null,{"$f":"AVERAGE(I14:K14)","v":841.41666666666663}]
[{"$f":"Data!A111","v":"2022-05-01"},{"$f":"IF(VLOOKUP(A15,Data!$A$11:$AL$154,Prices!$B$7,FALSE)=0,\"\",VLOOKUP(A15,Data!$A$11:$AL$154,Prices!$B$7,FALSE))","v":1247.5},null,{"$f":"IF(VLOOKUP(A15,Data!$A$11:$AL$154,Prices!$D$7,FALSE)=0,\"\",VLOOKUP(A15,Data!$A$11:$AL$154,Prices!$D$7,FALSE))","v":1165.5},null,null,null,"Mar.",1079.5,895.75,645,592,null,873.41666666666663]
[{"$f":"Data!A112","v":"2022-06-01"},{"$f":"IF(VLOOKUP(A16,Data!$A$11:$AL$154,Prices!$B$7,FALSE)=0,\"\",VLOOKUP(A16,Data!$A$11:$AL$154,Prices!$B$7,FALSE))","v":987.75},null,{"$f":"IF(VLOOKUP(A16,Data!$A$11:$AL$154,Prices!$D$7,FALSE)=0,\"\",VLOOKUP(A16,Data!$A$11:$AL$154,Prices!$D$7,FALSE))","v":948.75},null,null,null,"Apr.",1161.25,788,710.25,614,null,886.5]
[{"$f":"Data!A113","v":"2022-07-01"},{"$f":"IF(VLOOKUP(A17,Data!$A$11:$AL$154,Prices!$B$7,FALSE)=0,\"\",VLOOKUP(A17,Data!$A$11:$AL$154,Prices!$B$7,FALSE))","v":906},null,{"$f":"IF(VLOOKUP(A17,Data!$A$11:$AL$154,Prices!$D$7,FALSE)=0,\"\",VLOOKUP(A17,Data!$A$11:$AL$154,Prices!$D$7,FALSE))","v":874.5},null,null,null,"May",1247.5,780,739.75,625.5,null,922.41666666666663]
[{"$f":"Data!A114","v":"2022-08-01"},{"$f":"IF(VLOOKUP(A18,Data!$A$11:$AL$154,Prices!$B$7,FALSE)=0,\"\",VLOOKUP(A18,Data!$A$11:$AL$154,Prices!$B$7,FALSE))","v":915.5},null,{"$f":"IF(VLOOKUP(A18,Data!$A$11:$AL$154,Prices!$D$7,FALSE)=0,\"\",VLOOKUP(A18,Data!$A$11:$AL$154,Prices!$D$7,FALSE))","v":924.25},null,null,null,"Jne.",987.75,802,613,603,null,800.91666666666663]
[{"$f":"Data!A115","v":"2022-09-01"},{"$f":"IF(VLOOKUP(A19,Data!$A$11:$AL$154,Prices!$B$7,FALSE)=0,\"\",VLOOKUP(A19,Data!$A$11:$AL$154,Prices!$B$7,FALSE))","v":982},null,{"$f":"IF(VLOOKUP(A19,Data!$A$11:$AL$154,Prices!$D$7,FALSE)=0,\"\",VLOOKUP(A19,Data!$A$11:$AL$154,Prices!$D$7,FALSE))","v":991.5},null,null,null,"Jly.",906,855.75,581.5,{"$error":"#N/A"},null,781.08333333333337]
[{"$f":"Data!A116","v":"2022-10-01"},{"$f":"IF(VLOOKUP(A20,Data!$A$11:$AL$154,Prices!$B$7,FALSE)=0,\"\",VLOOKUP(A20,Data!$A$11:$AL$154,Prices!$B$7,FALSE))","v":981.25},null,{"$f":"IF(VLOOKUP(A20,Data!$A$11:$AL$154,Prices!$D$7,FALSE)=0,\"\",VLOOKUP(A20,Data!$A$11:$AL$154,Prices!$D$7,FALSE))","v":924},null,null,null,"Aug.",915.5,735,573.75,{"$error":"#N/A"},null,741.41666666666663]
[{"$f":"Data!A117","v":"2022-11-01"},{"$f":"IF(VLOOKUP(A21,Data!$A$11:$AL$154,Prices!$B$7,FALSE)=0,\"\",VLOOKUP(A21,Data!$A$11:$AL$154,Prices!$B$7,FALSE))","v":956.75},null,{"$f":"IF(VLOOKUP(A21,Data!$A$11:$AL$154,Prices!$D$7,FALSE)=0,\"\",VLOOKUP(A21,Data!$A$11:$AL$154,Prices!$D$7,FALSE))","v":913.25},null,null,null,"Sep.",982,709.25,621.75,{"$error":"#N/A"},null,771]
[{"$f":"Data!A118","v":"2022-12-01"},{"$f":"IF(VLOOKUP(A22,Data!$A$11:$AL$154,Prices!$B$7,FALSE)=0,\"\",VLOOKUP(A22,Data!$A$11:$AL$154,Prices!$B$7,FALSE))","v":938.75},null,{"$f":"IF(VLOOKUP(A22,Data!$A$11:$AL$154,Prices!$D$7,FALSE)=0,\"\",VLOOKUP(A22,Data!$A$11:$AL$154,Prices!$D$7,FALSE))","v":888},null,null,null,"Oct.",981.25,709.25,604.25,{"$error":"#N/A"},null,{"$f":"AVERAGE(I22:K22)","v":764.91666666666663}]
[{"$f":"Data!A119","v":"2023-01-01"},{"$f":"IF(VLOOKUP(A23,Data!$A$11:$AL$154,Prices!$B$7,FALSE)=0,\"\",VLOOKUP(A23,Data!$A$11:$AL$154,Prices!$B$7,FALSE))","v":922.25},null,{"$f":"IF(VLOOKUP(A23,Data!$A$11:$AL$154,Prices!$D$7,FALSE)=0,\"\",VLOOKUP(A23,Data!$A$11:$AL$154,Prices!$D$7,FALSE))","v":878.75},null,null,null,"Nov.",956.75,702.5,564.5,{"$error":"#N/A"},null,741.25]
[{"$f":"Data!A120","v":"2023-02-01"},{"$f":"IF(VLOOKUP(A24,Data!$A$11:$AL$154,Prices!$B$7,FALSE)=0,\"\",VLOOKUP(A24,Data!$A$11:$AL$154,Prices!$B$7,FALSE))","v":870.75},null,{"$f":"IF(VLOOKUP(A24,Data!$A$11:$AL$154,Prices!$D$7,FALSE)=0,\"\",VLOOKUP(A24,Data!$A$11:$AL$154,Prices!$D$7,FALSE))","v":815.75},null,null,null,"Dec.",938.75,723.5,595.75,{"$error":"#N/A"},null,752.66666666666663]
[{"$f":"Data!A121","v":"2023-03-01"},{"$f":"IF(VLOOKUP(A25,Data!$A$11:$AL$154,Prices!$B$7,FALSE)=0,\"\",VLOOKUP(A25,Data!$A$11:$AL$154,Prices!$B$7,FALSE))","v":895.75},null,{"$f":"IF(VLOOKUP(A25,Data!$A$11:$AL$154,Prices!$D$7,FALSE)=0,\"\",VLOOKUP(A25,Data!$A$11:$AL$154,Prices!$D$7,FALSE))","v":877.75},null,null,null,"Average",{"$f":"AVERAGE(I13:I24)","v":1004.3125},{"$f":"AVERAGE(J13:J24)","v":791.16666666666663},633.85416666666663,{"$error":"#N/A"},null,{"$f":"AVERAGE(N13:N24)","v":809.77777777777771}]
[{"$f":"Data!A122","v":"2023-04-01"},{"$f":"IF(VLOOKUP(A26,Data!$A$11:$AL$154,Prices!$B$7,FALSE)=0,\"\",VLOOKUP(A26,Data!$A$11:$AL$154,Prices!$B$7,FALSE))","v":788},null,{"$f":"IF(VLOOKUP(A26,Data!$A$11:$AL$154,Prices!$D$7,FALSE)=0,\"\",VLOOKUP(A26,Data!$A$11:$AL$154,Prices!$D$7,FALSE))","v":807.25}]
[{"$f":"Data!A123","v":"2023-05-01"},{"$f":"IF(VLOOKUP(A27,Data!$A$11:$AL$154,Prices!$B$7,FALSE)=0,\"\",VLOOKUP(A27,Data!$A$11:$AL$154,Prices!$B$7,FALSE))","v":780},null,{"$f":"IF(VLOOKUP(A27,Data!$A$11:$AL$154,Prices!$D$7,FALSE)=0,\"\",VLOOKUP(A27,Data!$A$11:$AL$154,Prices!$D$7,FALSE))","v":649.5}]
[{"$f":"Data!A124","v":"2023-06-01"},{"$f":"IF(VLOOKUP(A28,Data!$A$11:$AL$154,Prices!$B$7,FALSE)=0,\"\",VLOOKUP(A28,Data!$A$11:$AL$154,Prices!$B$7,FALSE))","v":802},null,{"$f":"IF(VLOOKUP(A28,Data!$A$11:$AL$154,Prices!$D$7,FALSE)=0,\"\",VLOOKUP(A28,Data!$A$11:$AL$154,Prices!$D$7,FALSE))","v":801.25}]
[{"$f":"Data!A125","v":"2023-07-01"},{"$f":"IF(VLOOKUP(A29,Data!$A$11:$AL$154,Prices!$B$7,FALSE)=0,\"\",VLOOKUP(A29,Data!$A$11:$AL$154,Prices!$B$7,FALSE))","v":855.75},null,{"$f":"IF(VLOOKUP(A29,Data!$A$11:$AL$154,Prices!$D$7,FALSE)=0,\"\",VLOOKUP(A29,Data!$A$11:$AL$154,Prices!$D$7,FALSE))","v":812.75},null,null,null,{"$f":"I7","v":"KCBT  Hard Red Winter Wheat Futures"}]
[{"$f":"Data!A126","v":"2023-08-01"},{"$f":"IF(VLOOKUP(A30,Data!$A$11:$AL$154,Prices!$B$7,FALSE)=0,\"\",VLOOKUP(A30,Data!$A$11:$AL$154,Prices!$B$7,FALSE))","v":735},null,{"$f":"IF(VLOOKUP(A30,Data!$A$11:$AL$154,Prices!$D$7,FALSE)=0,\"\",VLOOKUP(A30,Data!$A$11:$AL$154,Prices!$D$7,FALSE))","v":726.5},null,null,null,null,null,null,null,null,null,"2022-24"]
[{"$f":"Data!A127","v":"2023-09-01"},{"$f":"IF(VLOOKUP(A31,Data!$A$11:$AL$154,Prices!$B$7,FALSE)=0,\"\",VLOOKUP(A31,Data!$A$11:$AL$154,Prices!$B$7,FALSE))","v":709.25},null,{"$f":"IF(VLOOKUP(A31,Data!$A$11:$AL$154,Prices!$D$7,FALSE)=0,\"\",VLOOKUP(A31,Data!$A$11:$AL$154,Prices!$D$7,FALSE))","v":663.75},null,null,null,"Month",2022,2023,2024,2025,null,"Average"]
[{"$f":"Data!A128","v":"2023-10-01"},{"$f":"IF(VLOOKUP(A32,Data!$A$11:$AL$154,Prices!$B$7,FALSE)=0,\"\",VLOOKUP(A32,Data!$A$11:$AL$154,Prices!$B$7,FALSE))","v":709.25},null,{"$f":"IF(VLOOKUP(A32,Data!$A$11:$AL$154,Prices!$D$7,FALSE)=0,\"\",VLOOKUP(A32,Data!$A$11:$AL$154,Prices!$D$7,FALSE))","v":629.25},null,null,null,"Jan.",{"$f":"IF(D11=\"\",NA(),D11)","v":781.25},{"$f":"IF(D23=\"\",NA(),D23)","v":878.75},{"$f":"IF(D35=\"\",NA(),D35)","v":610.5},{"$f":"IF(D47=\"\",NA(),D47)","v":579.25},null,{"$f":"AVERAGE(I32:K32)","v":756.83333333333337}]
[{"$f":"Data!A129","v":"2023-11-01"},{"$f":"IF(VLOOKUP(A33,Data!$A$11:$AL$154,Prices!$B$7,FALSE)=0,\"\",VLOOKUP(A33,Data!$A$11:$AL$154,Prices!$B$7,FALSE))","v":702.5},null,{"$f":"IF(VLOOKUP(A33,Data!$A$11:$AL$154,Prices!$D$7,FALSE)=0,\"\",VLOOKUP(A33,Data!$A$11:$AL$154,Prices!$D$7,FALSE))","v":643.25},null,null,null,"Feb.",954.25,815.75,602.75,558.25,null,{"$f":"AVERAGE(I33:K33)","v":790.91666666666663}]
[{"$f":"Data!A130","v":"2023-12-01"},{"$f":"IF(VLOOKUP(A34,Data!$A$11:$AL$154,Prices!$B$7,FALSE)=0,\"\",VLOOKUP(A34,Data!$A$11:$AL$154,Prices!$B$7,FALSE))","v":723.5},null,{"$f":"IF(VLOOKUP(A34,Data!$A$11:$AL$154,Prices!$D$7,FALSE)=0,\"\",VLOOKUP(A34,Data!$A$11:$AL$154,Prices!$D$7,FALSE))","v":642},null,null,null,"Mar.",1130.5,877.75,626.5,557,null,878.25]
[{"$f":"Data!A131","v":"2024-01-01"},{"$f":"IF(VLOOKUP(A35,Data!$A$11:$AL$154,Prices!$B$7,FALSE)=0,\"\",VLOOKUP(A35,Data!$A$11:$AL$154,Prices!$B$7,FALSE))","v":692.25},null,{"$f":"IF(VLOOKUP(A35,Data!$A$11:$AL$154,Prices!$D$7,FALSE)=0,\"\",VLOOKUP(A35,Data!$A$11:$AL$154,Prices!$D$7,FALSE))","v":610.5},null,null,null,"Apr.",1094.25,807.25,622.75,514.25,null,841.41666666666663]
[{"$f":"Data!A132","v":"2024-02-01"},{"$f":"IF(VLOOKUP(A36,Data!$A$11:$AL$154,Prices!$B$7,FALSE)=0,\"\",VLOOKUP(A36,Data!$A$11:$AL$154,Prices!$B$7,FALSE))","v":664.5},null,{"$f":"IF(VLOOKUP(A36,Data!$A$11:$AL$154,Prices!$D$7,FALSE)=0,\"\",VLOOKUP(A36,Data!$A$11:$AL$154,Prices!$D$7,FALSE))","v":602.75},null,null,null,"May",1165.5,649.5,708.75,533.25,null,841.25]
[{"$f":"Data!A133","v":"2024-03-01"},{"$f":"IF(VLOOKUP(A37,Data!$A$11:$AL$154,Prices!$B$7,FALSE)=0,\"\",VLOOKUP(A37,Data!$A$11:$AL$154,Prices!$B$7,FALSE))","v":645},null,{"$f":"IF(VLOOKUP(A37,Data!$A$11:$AL$154,Prices!$D$7,FALSE)=0,\"\",VLOOKUP(A37,Data!$A$11:$AL$154,Prices!$D$7,FALSE))","v":626.5},null,null,null,"Jne.",948.75,801.25,587.5,506,null,779.16666666666663]
[{"$f":"Data!A134","v":"2024-04-01"},{"$f":"IF(VLOOKUP(A38,Data!$A$11:$AL$154,Prices!$B$7,FALSE)=0,\"\",VLOOKUP(A38,Data!$A$11:$AL$154,Prices!$B$7,FALSE))","v":710.25},null,{"$f":"IF(VLOOKUP(A38,Data!$A$11:$AL$154,Prices!$D$7,FALSE)=0,\"\",VLOOKUP(A38,Data!$A$11:$AL$154,Prices!$D$7,FALSE))","v":622.75},null,null,null,"Jly.",874.5,812.75,549,{"$error":"#N/A"},null,745.41666666666663]
[{"$f":"Data!A135","v":"2024-05-01"},{"$f":"IF(VLOOKUP(A39,Data!$A$11:$AL$154,Prices!$B$7,FALSE)=0,\"\",VLOOKUP(A39,Data!$A$11:$AL$154,Prices!$B$7,FALSE))","v":739.75},null,{"$f":"IF(VLOOKUP(A39,Data!$A$11:$AL$154,Prices!$D$7,FALSE)=0,\"\",VLOOKUP(A39,Data!$A$11:$AL$154,Prices!$D$7,FALSE))","v":708.75},null,null,null,"Aug.",924.25,726.5,552.5,{"$error":"#N/A"},null,734.41666666666663]
[{"$f":"Data!A136","v":"2024-06-01"},{"$f":"IF(VLOOKUP(A40,Data!$A$11:$AL$154,Prices!$B$7,FALSE)=0,\"\",VLOOKUP(A40,Data!$A$11:$AL$154,Prices!$B$7,FALSE))","v":613},null,{"$f":"IF(VLOOKUP(A40,Data!$A$11:$AL$154,Prices!$D$7,FALSE)=0,\"\",VLOOKUP(A40,Data!$A$11:$AL$154,Prices!$D$7,FALSE))","v":587.5},null,null,null,"Sep.",991.5,663.75,583.75,{"$error":"#N/A"},null,746.33333333333337]
[{"$f":"Data!A137","v":"2024-07-01"},{"$f":"IF(VLOOKUP(A41,Data!$A$11:$AL$154,Prices!$B$7,FALSE)=0,\"\",VLOOKUP(A41,Data!$A$11:$AL$154,Prices!$B$7,FALSE))","v":581.5},null,{"$f":"IF(VLOOKUP(A41,Data!$A$11:$AL$154,Prices!$D$7,FALSE)=0,\"\",VLOOKUP(A41,Data!$A$11:$AL$154,Prices!$D$7,FALSE))","v":549},null,null,null,"Oct.",924,629.25,569.25,{"$error":"#N/A"},null,707.5]
[{"$f":"Data!A138","v":"2024-08-01"},{"$f":"IF(VLOOKUP(A42,Data!$A$11:$AL$154,Prices!$B$7,FALSE)=0,\"\",VLOOKUP(A42,Data!$A$11:$AL$154,Prices!$B$7,FALSE))","v":573.75},null,{"$f":"IF(VLOOKUP(A42,Data!$A$11:$AL$154,Prices!$D$7,FALSE)=0,\"\",VLOOKUP(A42,Data!$A$11:$AL$154,Prices!$D$7,FALSE))","v":552.5},null,null,null,"Nov.",913.25,643.25,526.25,{"$error":"#N/A"},null,694.25]
[{"$f":"Data!A139","v":"2024-09-01"},{"$f":"IF(VLOOKUP(A43,Data!$A$11:$AL$154,Prices!$B$7,FALSE)=0,\"\",VLOOKUP(A43,Data!$A$11:$AL$154,Prices!$B$7,FALSE))","v":621.75},null,{"$f":"IF(VLOOKUP(A43,Data!$A$11:$AL$154,Prices!$D$7,FALSE)=0,\"\",VLOOKUP(A43,Data!$A$11:$AL$154,Prices!$D$7,FALSE))","v":583.75},null,null,null,"Dec.",888,642,559.25,{"$error":"#N/A"},null,696.41666666666663]
[{"$f":"Data!A140","v":"2024-10-01"},{"$f":"IF(VLOOKUP(A44,Data!$A$11:$AL$154,Prices!$B$7,FALSE)=0,\"\",VLOOKUP(A44,Data!$A$11:$AL$154,Prices!$B$7,FALSE))","v":604.25},null,{"$f":"IF(VLOOKUP(A44,Data!$A$11:$AL$154,Prices!$D$7,FALSE)=0,\"\",VLOOKUP(A44,Data!$A$11:$AL$154,Prices!$D$7,FALSE))","v":569.25},null,null,null,"Average",{"$f":"AVERAGE(I32:I43)","v":965.83333333333337},{"$f":"AVERAGE(J32:J43)","v":745.64583333333337},{"$f":"AVERAGE(K32:K43)","v":591.5625},{"$f":"AVERAGE(L32:L43)","v":{"$error":"#N/A"}},null,{"$f":"AVERAGE(N32:N43)","v":767.68055555555554}]
[{"$f":"Data!A141","v":"2024-11-01"},{"$f":"IF(VLOOKUP(A45,Data!$A$11:$AL$154,Prices!$B$7,FALSE)=0,\"\",VLOOKUP(A45,Data!$A$11:$AL$154,Prices!$B$7,FALSE))","v":564.5},null,{"$f":"IF(VLOOKUP(A45,Data!$A$11:$AL$154,Prices!$D$7,FALSE)=0,\"\",VLOOKUP(A45,Data!$A$11:$AL$154,Prices!$D$7,FALSE))","v":526.25}]
[{"$f":"Data!A142","v":"2024-12-01"},{"$f":"IF(VLOOKUP(A46,Data!$A$11:$AL$154,Prices!$B$7,FALSE)=0,\"\",VLOOKUP(A46,Data!$A$11:$AL$154,Prices!$B$7,FALSE))","v":595.75},null,{"$f":"IF(VLOOKUP(A46,Data!$A$11:$AL$154,Prices!$D$7,FALSE)=0,\"\",VLOOKUP(A46,Data!$A$11:$AL$154,Prices!$D$7,FALSE))","v":559.25}]
[{"$f":"Data!A143","v":"2025-01-01"},{"$f":"IF(VLOOKUP(A47,Data!$A$11:$AL$154,Prices!$B$7,FALSE)=0,\"\",VLOOKUP(A47,Data!$A$11:$AL$154,Prices!$B$7,FALSE))","v":615.5},null,{"$f":"IF(VLOOKUP(A47,Data!$A$11:$AL$154,Prices!$D$7,FALSE)=0,\"\",VLOOKUP(A47,Data!$A$11:$AL$154,Prices!$D$7,FALSE))","v":579.25}]
[{"$f":"Data!A144","v":"2025-02-01"},{"$f":"IF(VLOOKUP(A48,Data!$A$11:$AL$154,Prices!$B$7,FALSE)=0,\"\",VLOOKUP(A48,Data!$A$11:$AL$154,Prices!$B$7,FALSE))","v":582.25},null,{"$f":"IF(VLOOKUP(A48,Data!$A$11:$AL$154,Prices!$D$7,FALSE)=0,\"\",VLOOKUP(A48,Data!$A$11:$AL$154,Prices!$D$7,FALSE))","v":558.25}]
[{"$f":"Data!A145","v":"2025-03-01"},{"$f":"IF(VLOOKUP(A49,Data!$A$11:$AL$154,Prices!$B$7,FALSE)=0,\"\",VLOOKUP(A49,Data!$A$11:$AL$154,Prices!$B$7,FALSE))","v":592},null,{"$f":"IF(VLOOKUP(A49,Data!$A$11:$AL$154,Prices!$D$7,FALSE)=0,\"\",VLOOKUP(A49,Data!$A$11:$AL$154,Prices!$D$7,FALSE))","v":557}]
[{"$f":"Data!A146","v":"2025-04-01"},{"$f":"IF(VLOOKUP(A50,Data!$A$11:$AL$154,Prices!$B$7,FALSE)=0,\"\",VLOOKUP(A50,Data!$A$11:$AL$154,Prices!$B$7,FALSE))","v":614},null,{"$f":"IF(VLOOKUP(A50,Data!$A$11:$AL$154,Prices!$D$7,FALSE)=0,\"\",VLOOKUP(A50,Data!$A$11:$AL$154,Prices!$D$7,FALSE))","v":514.25}]
[{"$f":"Data!A147","v":"2025-05-01"},{"$f":"IF(VLOOKUP(A51,Data!$A$11:$AL$154,Prices!$B$7,FALSE)=0,\"\",VLOOKUP(A51,Data!$A$11:$AL$154,Prices!$B$7,FALSE))","v":625.5},null,{"$f":"IF(VLOOKUP(A51,Data!$A$11:$AL$154,Prices!$D$7,FALSE)=0,\"\",VLOOKUP(A51,Data!$A$11:$AL$154,Prices!$D$7,FALSE))","v":533.25}]
[{"$f":"Data!A148","v":"2025-06-01"},{"$f":"IF(VLOOKUP(A52,Data!$A$11:$AL$154,Prices!$B$7,FALSE)=0,\"\",VLOOKUP(A52,Data!$A$11:$AL$154,Prices!$B$7,FALSE))","v":603},null,{"$f":"IF(VLOOKUP(A52,Data!$A$11:$AL$154,Prices!$D$7,FALSE)=0,\"\",VLOOKUP(A52,Data!$A$11:$AL$154,Prices!$D$7,FALSE))","v":506}]
[{"$f":"Data!A149","v":"2025-07-01"},{"$f":"IF(VLOOKUP(A53,Data!$A$11:$AL$154,Prices!$B$7,FALSE)=0,\"\",VLOOKUP(A53,Data!$A$11:$AL$154,Prices!$B$7,FALSE))","v":""},null,{"$f":"IF(VLOOKUP(A53,Data!$A$11:$AL$154,Prices!$D$7,FALSE)=0,\"\",VLOOKUP(A53,Data!$A$11:$AL$154,Prices!$D$7,FALSE))","v":""}]
[{"$f":"Data!A150","v":"2025-08-01"},{"$f":"IF(VLOOKUP(A54,Data!$A$11:$AL$154,Prices!$B$7,FALSE)=0,\"\",VLOOKUP(A54,Data!$A$11:$AL$154,Prices!$B$7,FALSE))","v":""},null,{"$f":"IF(VLOOKUP(A54,Data!$A$11:$AL$154,Prices!$D$7,FALSE)=0,\"\",VLOOKUP(A54,Data!$A$11:$AL$154,Prices!$D$7,FALSE))","v":""}]
[{"$f":"Data!A151","v":"2025-09-01"},{"$f":"IF(VLOOKUP(A55,Data!$A$11:$AL$154,Prices!$B$7,FALSE)=0,\"\",VLOOKUP(A55,Data!$A$11:$AL$154,Prices!$B$7,FALSE))","v":""},null,{"$f":"IF(VLOOKUP(A55,Data!$A$11:$AL$154,Prices!$D$7,FALSE)=0,\"\",VLOOKUP(A55,Data!$A$11:$AL$154,Prices!$D$7,FALSE))","v":""}]
[{"$f":"Data!A152","v":"2025-10-01"},{"$f":"IF(VLOOKUP(A56,Data!$A$11:$AL$154,Prices!$B$7,FALSE)=0,\"\",VLOOKUP(A56,Data!$A$11:$AL$154,Prices!$B$7,FALSE))","v":""},null,{"$f":"IF(VLOOKUP(A56,Data!$A$11:$AL$154,Prices!$D$7,FALSE)=0,\"\",VLOOKUP(A56,Data!$A$11:$AL$154,Prices!$D$7,FALSE))","v":""}]
[{"$f":"Data!A153","v":"2025-11-01"},{"$f":"IF(VLOOKUP(A57,Data!$A$11:$AL$154,Prices!$B$7,FALSE)=0,\"\",VLOOKUP(A57,Data!$A$11:$AL$154,Prices!$B$7,FALSE))","v":""},null,{"$f":"IF(VLOOKUP(A57,Data!$A$11:$AL$154,Prices!$D$7,FALSE)=0,\"\",VLOOKUP(A57,Data!$A$11:$AL$154,Prices!$D$7,FALSE))","v":""}]
[{"$f":"Data!A154","v":"2025-12-01"},{"$f":"IF(VLOOKUP(A58,Data!$A$11:$AL$154,Prices!$B$7,FALSE)=0,\"\",VLOOKUP(A58,Data!$A$11:$AL$154,Prices!$B$7,FALSE))","v":""},null,{"$f":"IF(VLOOKUP(A58,Data!$A$11:$AL$154,Prices!$D$7,FALSE)=0,\"\",VLOOKUP(A58,Data!$A$11:$AL$154,Prices!$D$7,FALSE))","v":""}]
[]
["Max",{"$f":"ROUNDUP(MAX(B11:D58),-1)+10","v":1260},null,{"$f":"ROUNDUP(MAX(D11:D58),-1)+10","v":1180}]
["Min",{"$f":"ROUNDDOWN(MIN(B11:D58),-1)-10","v":490},null,{"$f":"ROUNDDOWN(MIN(D11:D58),-1)-10","v":490}]
["Scale",{"$f":"ROUNDUP(((B60-B61)/10),-1)","v":80},null,{"$f":"ROUNDUP(((D60-D61)/10),-1)","v":70}]